BEGIN:VCALENDAR
VERSION:2.0
PRODID:-//Semana da Língua Alemã - ECPv6.4.0.1//NONSGML v1.0//EN
CALSCALE:GREGORIAN
METHOD:PUBLISH
X-WR-CALNAME:Semana da Língua Alemã
X-ORIGINAL-URL:https://semanadalinguaalema.com.br
X-WR-CALDESC:Eventos para Semana da Língua Alemã
REFRESH-INTERVAL;VALUE=DURATION:PT1H
X-Robots-Tag:noindex
X-PUBLISHED-TTL:PT1H
BEGIN:VTIMEZONE
TZID:America/Sao_Paulo
BEGIN:STANDARD
TZOFFSETFROM:-0300
TZOFFSETTO:-0300
TZNAME:-03
DTSTART:20250101T000000
END:STANDARD
END:VTIMEZONE
BEGIN:VEVENT
DTSTART;VALUE=DATE:20251105
DTEND;VALUE=DATE:20251120
DTSTAMP:20260425T075251
CREATED:20250520T143719Z
LAST-MODIFIED:20250520T143719Z
UID:10004230-1762300800-1763596799@semanadalinguaalema.com.br
SUMMARY:DOAÇĀO DE LIVROS
DESCRIPTION:Romances\, biografias\, policiais e muito mais.
URL:https://semanadalinguaalema.com.br/evento/doacao-de-livros/2025-11-05/
LOCATION:Insituto Kreativ\, Rua dos Bandeirantes\, 405 - Cambuí\, Campinas\, São Paulo\, 13024011\, Brasil
CATEGORIES:Literatura
ORGANIZER;CN="Insituto Kreativ":MAILTO:kreativ@kreativ.com.br
GEO:-22.8923332;-47.0515171
X-APPLE-STRUCTURED-LOCATION;VALUE=URI;X-ADDRESS=Insituto Kreativ Rua dos Bandeirantes 405 - Cambuí Campinas São Paulo 13024011 Brasil;X-APPLE-RADIUS=500;X-TITLE=Rua dos Bandeirantes\, 405 - Cambuí:geo:-47.0515171,-22.8923332
END:VEVENT
BEGIN:VEVENT
DTSTART;VALUE=DATE:20251106
DTEND;VALUE=DATE:20251121
DTSTAMP:20260425T075251
CREATED:20250520T143719Z
LAST-MODIFIED:20250520T143719Z
UID:10004231-1762387200-1763683199@semanadalinguaalema.com.br
SUMMARY:DOAÇĀO DE LIVROS
DESCRIPTION:Romances\, biografias\, policiais e muito mais.
URL:https://semanadalinguaalema.com.br/evento/doacao-de-livros/2025-11-06/
LOCATION:Insituto Kreativ\, Rua dos Bandeirantes\, 405 - Cambuí\, Campinas\, São Paulo\, 13024011\, Brasil
CATEGORIES:Literatura
ORGANIZER;CN="Insituto Kreativ":MAILTO:kreativ@kreativ.com.br
GEO:-22.8923332;-47.0515171
X-APPLE-STRUCTURED-LOCATION;VALUE=URI;X-ADDRESS=Insituto Kreativ Rua dos Bandeirantes 405 - Cambuí Campinas São Paulo 13024011 Brasil;X-APPLE-RADIUS=500;X-TITLE=Rua dos Bandeirantes\, 405 - Cambuí:geo:-47.0515171,-22.8923332
END:VEVENT
BEGIN:VEVENT
DTSTART;VALUE=DATE:20251107
DTEND;VALUE=DATE:20251122
DTSTAMP:20260425T075251
CREATED:20250520T143719Z
LAST-MODIFIED:20250520T143719Z
UID:10004232-1762473600-1763769599@semanadalinguaalema.com.br
SUMMARY:DOAÇĀO DE LIVROS
DESCRIPTION:Romances\, biografias\, policiais e muito mais.
URL:https://semanadalinguaalema.com.br/evento/doacao-de-livros/2025-11-07/
LOCATION:Insituto Kreativ\, Rua dos Bandeirantes\, 405 - Cambuí\, Campinas\, São Paulo\, 13024011\, Brasil
CATEGORIES:Literatura
ORGANIZER;CN="Insituto Kreativ":MAILTO:kreativ@kreativ.com.br
GEO:-22.8923332;-47.0515171
X-APPLE-STRUCTURED-LOCATION;VALUE=URI;X-ADDRESS=Insituto Kreativ Rua dos Bandeirantes 405 - Cambuí Campinas São Paulo 13024011 Brasil;X-APPLE-RADIUS=500;X-TITLE=Rua dos Bandeirantes\, 405 - Cambuí:geo:-47.0515171,-22.8923332
END:VEVENT
BEGIN:VEVENT
DTSTART;VALUE=DATE:20251108
DTEND;VALUE=DATE:20251123
DTSTAMP:20260425T075251
CREATED:20250520T143719Z
LAST-MODIFIED:20250520T143719Z
UID:10004233-1762560000-1763855999@semanadalinguaalema.com.br
SUMMARY:DOAÇĀO DE LIVROS
DESCRIPTION:Romances\, biografias\, policiais e muito mais.
URL:https://semanadalinguaalema.com.br/evento/doacao-de-livros/2025-11-08/
LOCATION:Insituto Kreativ\, Rua dos Bandeirantes\, 405 - Cambuí\, Campinas\, São Paulo\, 13024011\, Brasil
CATEGORIES:Literatura
ORGANIZER;CN="Insituto Kreativ":MAILTO:kreativ@kreativ.com.br
GEO:-22.8923332;-47.0515171
X-APPLE-STRUCTURED-LOCATION;VALUE=URI;X-ADDRESS=Insituto Kreativ Rua dos Bandeirantes 405 - Cambuí Campinas São Paulo 13024011 Brasil;X-APPLE-RADIUS=500;X-TITLE=Rua dos Bandeirantes\, 405 - Cambuí:geo:-47.0515171,-22.8923332
END:VEVENT
BEGIN:VEVENT
DTSTART;VALUE=DATE:20251109
DTEND;VALUE=DATE:20251124
DTSTAMP:20260425T075251
CREATED:20250520T143719Z
LAST-MODIFIED:20250520T143719Z
UID:10004234-1762646400-1763942399@semanadalinguaalema.com.br
SUMMARY:DOAÇĀO DE LIVROS
DESCRIPTION:Romances\, biografias\, policiais e muito mais.
URL:https://semanadalinguaalema.com.br/evento/doacao-de-livros/2025-11-09/
LOCATION:Insituto Kreativ\, Rua dos Bandeirantes\, 405 - Cambuí\, Campinas\, São Paulo\, 13024011\, Brasil
CATEGORIES:Literatura
ORGANIZER;CN="Insituto Kreativ":MAILTO:kreativ@kreativ.com.br
GEO:-22.8923332;-47.0515171
X-APPLE-STRUCTURED-LOCATION;VALUE=URI;X-ADDRESS=Insituto Kreativ Rua dos Bandeirantes 405 - Cambuí Campinas São Paulo 13024011 Brasil;X-APPLE-RADIUS=500;X-TITLE=Rua dos Bandeirantes\, 405 - Cambuí:geo:-47.0515171,-22.8923332
END:VEVENT
BEGIN:VEVENT
DTSTART;VALUE=DATE:20251110
DTEND;VALUE=DATE:20251125
DTSTAMP:20260425T075251
CREATED:20250520T143719Z
LAST-MODIFIED:20250520T143719Z
UID:10004235-1762732800-1764028799@semanadalinguaalema.com.br
SUMMARY:DOAÇĀO DE LIVROS
DESCRIPTION:Romances\, biografias\, policiais e muito mais.
URL:https://semanadalinguaalema.com.br/evento/doacao-de-livros/2025-11-10/
LOCATION:Insituto Kreativ\, Rua dos Bandeirantes\, 405 - Cambuí\, Campinas\, São Paulo\, 13024011\, Brasil
CATEGORIES:Literatura
ORGANIZER;CN="Insituto Kreativ":MAILTO:kreativ@kreativ.com.br
GEO:-22.8923332;-47.0515171
X-APPLE-STRUCTURED-LOCATION;VALUE=URI;X-ADDRESS=Insituto Kreativ Rua dos Bandeirantes 405 - Cambuí Campinas São Paulo 13024011 Brasil;X-APPLE-RADIUS=500;X-TITLE=Rua dos Bandeirantes\, 405 - Cambuí:geo:-47.0515171,-22.8923332
END:VEVENT
BEGIN:VEVENT
DTSTART;VALUE=DATE:20251111
DTEND;VALUE=DATE:20251126
DTSTAMP:20260425T075251
CREATED:20250520T143719Z
LAST-MODIFIED:20250520T143719Z
UID:10004236-1762819200-1764115199@semanadalinguaalema.com.br
SUMMARY:DOAÇĀO DE LIVROS
DESCRIPTION:Romances\, biografias\, policiais e muito mais.
URL:https://semanadalinguaalema.com.br/evento/doacao-de-livros/2025-11-11/
LOCATION:Insituto Kreativ\, Rua dos Bandeirantes\, 405 - Cambuí\, Campinas\, São Paulo\, 13024011\, Brasil
CATEGORIES:Literatura
ORGANIZER;CN="Insituto Kreativ":MAILTO:kreativ@kreativ.com.br
GEO:-22.8923332;-47.0515171
X-APPLE-STRUCTURED-LOCATION;VALUE=URI;X-ADDRESS=Insituto Kreativ Rua dos Bandeirantes 405 - Cambuí Campinas São Paulo 13024011 Brasil;X-APPLE-RADIUS=500;X-TITLE=Rua dos Bandeirantes\, 405 - Cambuí:geo:-47.0515171,-22.8923332
END:VEVENT
BEGIN:VEVENT
DTSTART;VALUE=DATE:20251112
DTEND;VALUE=DATE:20251127
DTSTAMP:20260425T075251
CREATED:20250520T143719Z
LAST-MODIFIED:20250520T143719Z
UID:10004237-1762905600-1764201599@semanadalinguaalema.com.br
SUMMARY:DOAÇĀO DE LIVROS
DESCRIPTION:Romances\, biografias\, policiais e muito mais.
URL:https://semanadalinguaalema.com.br/evento/doacao-de-livros/2025-11-12/
LOCATION:Insituto Kreativ\, Rua dos Bandeirantes\, 405 - Cambuí\, Campinas\, São Paulo\, 13024011\, Brasil
CATEGORIES:Literatura
ORGANIZER;CN="Insituto Kreativ":MAILTO:kreativ@kreativ.com.br
GEO:-22.8923332;-47.0515171
X-APPLE-STRUCTURED-LOCATION;VALUE=URI;X-ADDRESS=Insituto Kreativ Rua dos Bandeirantes 405 - Cambuí Campinas São Paulo 13024011 Brasil;X-APPLE-RADIUS=500;X-TITLE=Rua dos Bandeirantes\, 405 - Cambuí:geo:-47.0515171,-22.8923332
END:VEVENT
BEGIN:VEVENT
DTSTART;VALUE=DATE:20251113
DTEND;VALUE=DATE:20251128
DTSTAMP:20260425T075251
CREATED:20250520T143719Z
LAST-MODIFIED:20250520T143719Z
UID:10004238-1762992000-1764287999@semanadalinguaalema.com.br
SUMMARY:DOAÇĀO DE LIVROS
DESCRIPTION:Romances\, biografias\, policiais e muito mais.
URL:https://semanadalinguaalema.com.br/evento/doacao-de-livros/2025-11-13/
LOCATION:Insituto Kreativ\, Rua dos Bandeirantes\, 405 - Cambuí\, Campinas\, São Paulo\, 13024011\, Brasil
CATEGORIES:Literatura
ORGANIZER;CN="Insituto Kreativ":MAILTO:kreativ@kreativ.com.br
GEO:-22.8923332;-47.0515171
X-APPLE-STRUCTURED-LOCATION;VALUE=URI;X-ADDRESS=Insituto Kreativ Rua dos Bandeirantes 405 - Cambuí Campinas São Paulo 13024011 Brasil;X-APPLE-RADIUS=500;X-TITLE=Rua dos Bandeirantes\, 405 - Cambuí:geo:-47.0515171,-22.8923332
END:VEVENT
BEGIN:VEVENT
DTSTART;VALUE=DATE:20251114
DTEND;VALUE=DATE:20251129
DTSTAMP:20260425T075251
CREATED:20250520T143719Z
LAST-MODIFIED:20250520T143719Z
UID:10004239-1763078400-1764374399@semanadalinguaalema.com.br
SUMMARY:DOAÇĀO DE LIVROS
DESCRIPTION:Romances\, biografias\, policiais e muito mais.
URL:https://semanadalinguaalema.com.br/evento/doacao-de-livros/2025-11-14/
LOCATION:Insituto Kreativ\, Rua dos Bandeirantes\, 405 - Cambuí\, Campinas\, São Paulo\, 13024011\, Brasil
CATEGORIES:Literatura
ORGANIZER;CN="Insituto Kreativ":MAILTO:kreativ@kreativ.com.br
GEO:-22.8923332;-47.0515171
X-APPLE-STRUCTURED-LOCATION;VALUE=URI;X-ADDRESS=Insituto Kreativ Rua dos Bandeirantes 405 - Cambuí Campinas São Paulo 13024011 Brasil;X-APPLE-RADIUS=500;X-TITLE=Rua dos Bandeirantes\, 405 - Cambuí:geo:-47.0515171,-22.8923332
END:VEVENT
BEGIN:VEVENT
DTSTART;VALUE=DATE:20251115
DTEND;VALUE=DATE:20251130
DTSTAMP:20260425T075251
CREATED:20250520T143719Z
LAST-MODIFIED:20250520T143719Z
UID:10004240-1763164800-1764460799@semanadalinguaalema.com.br
SUMMARY:DOAÇĀO DE LIVROS
DESCRIPTION:Romances\, biografias\, policiais e muito mais.
URL:https://semanadalinguaalema.com.br/evento/doacao-de-livros/2025-11-15/
LOCATION:Insituto Kreativ\, Rua dos Bandeirantes\, 405 - Cambuí\, Campinas\, São Paulo\, 13024011\, Brasil
CATEGORIES:Literatura
ORGANIZER;CN="Insituto Kreativ":MAILTO:kreativ@kreativ.com.br
GEO:-22.8923332;-47.0515171
X-APPLE-STRUCTURED-LOCATION;VALUE=URI;X-ADDRESS=Insituto Kreativ Rua dos Bandeirantes 405 - Cambuí Campinas São Paulo 13024011 Brasil;X-APPLE-RADIUS=500;X-TITLE=Rua dos Bandeirantes\, 405 - Cambuí:geo:-47.0515171,-22.8923332
END:VEVENT
BEGIN:VEVENT
DTSTART;VALUE=DATE:20251116
DTEND;VALUE=DATE:20251201
DTSTAMP:20260425T075251
CREATED:20250520T143719Z
LAST-MODIFIED:20250520T143719Z
UID:10004241-1763251200-1764547199@semanadalinguaalema.com.br
SUMMARY:DOAÇĀO DE LIVROS
DESCRIPTION:Romances\, biografias\, policiais e muito mais.
URL:https://semanadalinguaalema.com.br/evento/doacao-de-livros/2025-11-16/
LOCATION:Insituto Kreativ\, Rua dos Bandeirantes\, 405 - Cambuí\, Campinas\, São Paulo\, 13024011\, Brasil
CATEGORIES:Literatura
ORGANIZER;CN="Insituto Kreativ":MAILTO:kreativ@kreativ.com.br
GEO:-22.8923332;-47.0515171
X-APPLE-STRUCTURED-LOCATION;VALUE=URI;X-ADDRESS=Insituto Kreativ Rua dos Bandeirantes 405 - Cambuí Campinas São Paulo 13024011 Brasil;X-APPLE-RADIUS=500;X-TITLE=Rua dos Bandeirantes\, 405 - Cambuí:geo:-47.0515171,-22.8923332
END:VEVENT
BEGIN:VEVENT
DTSTART;VALUE=DATE:20251117
DTEND;VALUE=DATE:20251202
DTSTAMP:20260425T075251
CREATED:20250520T143719Z
LAST-MODIFIED:20250520T143719Z
UID:10004242-1763337600-1764633599@semanadalinguaalema.com.br
SUMMARY:DOAÇĀO DE LIVROS
DESCRIPTION:Romances\, biografias\, policiais e muito mais.
URL:https://semanadalinguaalema.com.br/evento/doacao-de-livros/2025-11-17/
LOCATION:Insituto Kreativ\, Rua dos Bandeirantes\, 405 - Cambuí\, Campinas\, São Paulo\, 13024011\, Brasil
CATEGORIES:Literatura
ORGANIZER;CN="Insituto Kreativ":MAILTO:kreativ@kreativ.com.br
GEO:-22.8923332;-47.0515171
X-APPLE-STRUCTURED-LOCATION;VALUE=URI;X-ADDRESS=Insituto Kreativ Rua dos Bandeirantes 405 - Cambuí Campinas São Paulo 13024011 Brasil;X-APPLE-RADIUS=500;X-TITLE=Rua dos Bandeirantes\, 405 - Cambuí:geo:-47.0515171,-22.8923332
END:VEVENT
BEGIN:VEVENT
DTSTART;VALUE=DATE:20251118
DTEND;VALUE=DATE:20251203
DTSTAMP:20260425T075251
CREATED:20250520T143719Z
LAST-MODIFIED:20250520T143719Z
UID:10004243-1763424000-1764719999@semanadalinguaalema.com.br
SUMMARY:DOAÇĀO DE LIVROS
DESCRIPTION:Romances\, biografias\, policiais e muito mais.
URL:https://semanadalinguaalema.com.br/evento/doacao-de-livros/2025-11-18/
LOCATION:Insituto Kreativ\, Rua dos Bandeirantes\, 405 - Cambuí\, Campinas\, São Paulo\, 13024011\, Brasil
CATEGORIES:Literatura
ORGANIZER;CN="Insituto Kreativ":MAILTO:kreativ@kreativ.com.br
GEO:-22.8923332;-47.0515171
X-APPLE-STRUCTURED-LOCATION;VALUE=URI;X-ADDRESS=Insituto Kreativ Rua dos Bandeirantes 405 - Cambuí Campinas São Paulo 13024011 Brasil;X-APPLE-RADIUS=500;X-TITLE=Rua dos Bandeirantes\, 405 - Cambuí:geo:-47.0515171,-22.8923332
END:VEVENT
BEGIN:VEVENT
DTSTART;VALUE=DATE:20251119
DTEND;VALUE=DATE:20251204
DTSTAMP:20260425T075251
CREATED:20250520T143719Z
LAST-MODIFIED:20250520T143719Z
UID:10004244-1763510400-1764806399@semanadalinguaalema.com.br
SUMMARY:DOAÇĀO DE LIVROS
DESCRIPTION:Romances\, biografias\, policiais e muito mais.
URL:https://semanadalinguaalema.com.br/evento/doacao-de-livros/2025-11-19/
LOCATION:Insituto Kreativ\, Rua dos Bandeirantes\, 405 - Cambuí\, Campinas\, São Paulo\, 13024011\, Brasil
CATEGORIES:Literatura
ORGANIZER;CN="Insituto Kreativ":MAILTO:kreativ@kreativ.com.br
GEO:-22.8923332;-47.0515171
X-APPLE-STRUCTURED-LOCATION;VALUE=URI;X-ADDRESS=Insituto Kreativ Rua dos Bandeirantes 405 - Cambuí Campinas São Paulo 13024011 Brasil;X-APPLE-RADIUS=500;X-TITLE=Rua dos Bandeirantes\, 405 - Cambuí:geo:-47.0515171,-22.8923332
END:VEVENT
BEGIN:VEVENT
DTSTART;TZID=America/Sao_Paulo:20251119T090000
DTEND;TZID=America/Sao_Paulo:20251119T160000
DTSTAMP:20260425T075251
CREATED:20250505T113522Z
LAST-MODIFIED:20250505T113522Z
UID:10002039-1763542800-1763568000@semanadalinguaalema.com.br
SUMMARY:Spiel-Stationen im Deutschunterricht
DESCRIPTION:Nas aulas de alemão regulares do Colégio de Aplicação/UFSC (do 6º ano Ensino Fundamental ao 3º ano Ensino Médio)\, durante a Semana da Língua Alemã\, ofereceremos aos nossos alunos diversos “Spiel-Stationen” (estações com jogos). Cada “Station” envolverá os alunos (em grupinhos) em um tipo de jogo (físico ou virtual) que terá seu propósito de aprendizagem com a língua alemã.
URL:https://semanadalinguaalema.com.br/evento/spiel-stationen-im-deutschunterricht/2025-11-19/
LOCATION:Colégio de Aplicação UFSC\, R. Eng. Agronômico Andrei Cristian Ferreira - Trindade\, Florianópolis\, Santa Catarina\, 88040-900\, Brasil
CATEGORIES:Educação
ORGANIZER;CN="C%C3%A1ssia Sigle":MAILTO:sigle.cassia@ufsc.br
GEO:-27.6017725;-48.5216109
X-APPLE-STRUCTURED-LOCATION;VALUE=URI;X-ADDRESS=Colégio de Aplicação UFSC R. Eng. Agronômico Andrei Cristian Ferreira - Trindade Florianópolis Santa Catarina 88040-900 Brasil;X-APPLE-RADIUS=500;X-TITLE=R. Eng. Agronômico Andrei Cristian Ferreira - Trindade:geo:-48.5216109,-27.6017725
END:VEVENT
BEGIN:VEVENT
DTSTART;VALUE=DATE:20251120
DTEND;VALUE=DATE:20251205
DTSTAMP:20260425T075251
CREATED:20250520T143719Z
LAST-MODIFIED:20250520T143719Z
UID:10004245-1763596800-1764892799@semanadalinguaalema.com.br
SUMMARY:DOAÇĀO DE LIVROS
DESCRIPTION:Romances\, biografias\, policiais e muito mais.
URL:https://semanadalinguaalema.com.br/evento/doacao-de-livros/2025-11-20/
LOCATION:Insituto Kreativ\, Rua dos Bandeirantes\, 405 - Cambuí\, Campinas\, São Paulo\, 13024011\, Brasil
CATEGORIES:Literatura
ORGANIZER;CN="Insituto Kreativ":MAILTO:kreativ@kreativ.com.br
GEO:-22.8923332;-47.0515171
X-APPLE-STRUCTURED-LOCATION;VALUE=URI;X-ADDRESS=Insituto Kreativ Rua dos Bandeirantes 405 - Cambuí Campinas São Paulo 13024011 Brasil;X-APPLE-RADIUS=500;X-TITLE=Rua dos Bandeirantes\, 405 - Cambuí:geo:-47.0515171,-22.8923332
END:VEVENT
BEGIN:VEVENT
DTSTART;VALUE=DATE:20251121
DTEND;VALUE=DATE:20251206
DTSTAMP:20260425T075251
CREATED:20250520T143719Z
LAST-MODIFIED:20250520T143719Z
UID:10004246-1763683200-1764979199@semanadalinguaalema.com.br
SUMMARY:DOAÇĀO DE LIVROS
DESCRIPTION:Romances\, biografias\, policiais e muito mais.
URL:https://semanadalinguaalema.com.br/evento/doacao-de-livros/2025-11-21/
LOCATION:Insituto Kreativ\, Rua dos Bandeirantes\, 405 - Cambuí\, Campinas\, São Paulo\, 13024011\, Brasil
CATEGORIES:Literatura
ORGANIZER;CN="Insituto Kreativ":MAILTO:kreativ@kreativ.com.br
GEO:-22.8923332;-47.0515171
X-APPLE-STRUCTURED-LOCATION;VALUE=URI;X-ADDRESS=Insituto Kreativ Rua dos Bandeirantes 405 - Cambuí Campinas São Paulo 13024011 Brasil;X-APPLE-RADIUS=500;X-TITLE=Rua dos Bandeirantes\, 405 - Cambuí:geo:-47.0515171,-22.8923332
END:VEVENT
BEGIN:VEVENT
DTSTART;VALUE=DATE:20251122
DTEND;VALUE=DATE:20251207
DTSTAMP:20260425T075251
CREATED:20250520T143719Z
LAST-MODIFIED:20250520T143719Z
UID:10004247-1763769600-1765065599@semanadalinguaalema.com.br
SUMMARY:DOAÇĀO DE LIVROS
DESCRIPTION:Romances\, biografias\, policiais e muito mais.
URL:https://semanadalinguaalema.com.br/evento/doacao-de-livros/2025-11-22/
LOCATION:Insituto Kreativ\, Rua dos Bandeirantes\, 405 - Cambuí\, Campinas\, São Paulo\, 13024011\, Brasil
CATEGORIES:Literatura
ORGANIZER;CN="Insituto Kreativ":MAILTO:kreativ@kreativ.com.br
GEO:-22.8923332;-47.0515171
X-APPLE-STRUCTURED-LOCATION;VALUE=URI;X-ADDRESS=Insituto Kreativ Rua dos Bandeirantes 405 - Cambuí Campinas São Paulo 13024011 Brasil;X-APPLE-RADIUS=500;X-TITLE=Rua dos Bandeirantes\, 405 - Cambuí:geo:-47.0515171,-22.8923332
END:VEVENT
BEGIN:VEVENT
DTSTART;TZID=America/Sao_Paulo:20251122T100000
DTEND;TZID=America/Sao_Paulo:20251122T114500
DTSTAMP:20260425T075251
CREATED:20250610T114219Z
LAST-MODIFIED:20250610T114219Z
UID:10006017-1763805600-1763811900@semanadalinguaalema.com.br
SUMMARY:Deutscher Jugendclub Cultura Alemã Joinville
DESCRIPTION:Você sabia que a Cultura Alemã de Joinville tem um projeto para incentivar a prática do idioma alemão\, específico para crônicas e jovens entre 12 e 18 anos? Trata-se do Jugendclub (ou Clube Juvenil).
URL:https://semanadalinguaalema.com.br/evento/deutscher-jugendclub-cultura-alema-joinville/2025-11-22/
LOCATION:Casa da Memória\, Rua XV de Novembro\, 1000\, Joinville\, Santa Catarina\, 89201-602\, Brasil
CATEGORIES:Educação
ATTACH;FMTTYPE=image/jpeg:https://semanadalinguaalema.com.br/wp-content/uploads/2025/06/IMG_6719-2.jpeg
ORGANIZER;CN="Sociedade Cultural Alem%C3%A3 de Joinville":MAILTO:dkvj@terra.com.br
GEO:-26.2995529;-48.8517868
X-APPLE-STRUCTURED-LOCATION;VALUE=URI;X-ADDRESS=Casa da Memória Rua XV de Novembro 1000 Joinville Santa Catarina 89201-602 Brasil;X-APPLE-RADIUS=500;X-TITLE=Rua XV de Novembro\, 1000:geo:-48.8517868,-26.2995529
END:VEVENT
BEGIN:VEVENT
DTSTART;VALUE=DATE:20251123
DTEND;VALUE=DATE:20251208
DTSTAMP:20260425T075251
CREATED:20250520T143719Z
LAST-MODIFIED:20250520T143719Z
UID:10004248-1763856000-1765151999@semanadalinguaalema.com.br
SUMMARY:DOAÇĀO DE LIVROS
DESCRIPTION:Romances\, biografias\, policiais e muito mais.
URL:https://semanadalinguaalema.com.br/evento/doacao-de-livros/2025-11-23/
LOCATION:Insituto Kreativ\, Rua dos Bandeirantes\, 405 - Cambuí\, Campinas\, São Paulo\, 13024011\, Brasil
CATEGORIES:Literatura
ORGANIZER;CN="Insituto Kreativ":MAILTO:kreativ@kreativ.com.br
GEO:-22.8923332;-47.0515171
X-APPLE-STRUCTURED-LOCATION;VALUE=URI;X-ADDRESS=Insituto Kreativ Rua dos Bandeirantes 405 - Cambuí Campinas São Paulo 13024011 Brasil;X-APPLE-RADIUS=500;X-TITLE=Rua dos Bandeirantes\, 405 - Cambuí:geo:-47.0515171,-22.8923332
END:VEVENT
BEGIN:VEVENT
DTSTART;TZID=America/Sao_Paulo:20251123T090000
DTEND;TZID=America/Sao_Paulo:20251123T160000
DTSTAMP:20260425T075251
CREATED:20250505T113522Z
LAST-MODIFIED:20250505T113522Z
UID:10002040-1763888400-1763913600@semanadalinguaalema.com.br
SUMMARY:Spiel-Stationen im Deutschunterricht
DESCRIPTION:Nas aulas de alemão regulares do Colégio de Aplicação/UFSC (do 6º ano Ensino Fundamental ao 3º ano Ensino Médio)\, durante a Semana da Língua Alemã\, ofereceremos aos nossos alunos diversos “Spiel-Stationen” (estações com jogos). Cada “Station” envolverá os alunos (em grupinhos) em um tipo de jogo (físico ou virtual) que terá seu propósito de aprendizagem com a língua alemã.
URL:https://semanadalinguaalema.com.br/evento/spiel-stationen-im-deutschunterricht/2025-11-23/
LOCATION:Colégio de Aplicação UFSC\, R. Eng. Agronômico Andrei Cristian Ferreira - Trindade\, Florianópolis\, Santa Catarina\, 88040-900\, Brasil
CATEGORIES:Educação
ORGANIZER;CN="C%C3%A1ssia Sigle":MAILTO:sigle.cassia@ufsc.br
GEO:-27.6017725;-48.5216109
X-APPLE-STRUCTURED-LOCATION;VALUE=URI;X-ADDRESS=Colégio de Aplicação UFSC R. Eng. Agronômico Andrei Cristian Ferreira - Trindade Florianópolis Santa Catarina 88040-900 Brasil;X-APPLE-RADIUS=500;X-TITLE=R. Eng. Agronômico Andrei Cristian Ferreira - Trindade:geo:-48.5216109,-27.6017725
END:VEVENT
BEGIN:VEVENT
DTSTART;VALUE=DATE:20251124
DTEND;VALUE=DATE:20251209
DTSTAMP:20260425T075251
CREATED:20250520T143719Z
LAST-MODIFIED:20250520T143719Z
UID:10004249-1763942400-1765238399@semanadalinguaalema.com.br
SUMMARY:DOAÇĀO DE LIVROS
DESCRIPTION:Romances\, biografias\, policiais e muito mais.
URL:https://semanadalinguaalema.com.br/evento/doacao-de-livros/2025-11-24/
LOCATION:Insituto Kreativ\, Rua dos Bandeirantes\, 405 - Cambuí\, Campinas\, São Paulo\, 13024011\, Brasil
CATEGORIES:Literatura
ORGANIZER;CN="Insituto Kreativ":MAILTO:kreativ@kreativ.com.br
GEO:-22.8923332;-47.0515171
X-APPLE-STRUCTURED-LOCATION;VALUE=URI;X-ADDRESS=Insituto Kreativ Rua dos Bandeirantes 405 - Cambuí Campinas São Paulo 13024011 Brasil;X-APPLE-RADIUS=500;X-TITLE=Rua dos Bandeirantes\, 405 - Cambuí:geo:-47.0515171,-22.8923332
END:VEVENT
BEGIN:VEVENT
DTSTART;VALUE=DATE:20251125
DTEND;VALUE=DATE:20251210
DTSTAMP:20260425T075251
CREATED:20250520T143719Z
LAST-MODIFIED:20250520T143719Z
UID:10004250-1764028800-1765324799@semanadalinguaalema.com.br
SUMMARY:DOAÇĀO DE LIVROS
DESCRIPTION:Romances\, biografias\, policiais e muito mais.
URL:https://semanadalinguaalema.com.br/evento/doacao-de-livros/2025-11-25/
LOCATION:Insituto Kreativ\, Rua dos Bandeirantes\, 405 - Cambuí\, Campinas\, São Paulo\, 13024011\, Brasil
CATEGORIES:Literatura
ORGANIZER;CN="Insituto Kreativ":MAILTO:kreativ@kreativ.com.br
GEO:-22.8923332;-47.0515171
X-APPLE-STRUCTURED-LOCATION;VALUE=URI;X-ADDRESS=Insituto Kreativ Rua dos Bandeirantes 405 - Cambuí Campinas São Paulo 13024011 Brasil;X-APPLE-RADIUS=500;X-TITLE=Rua dos Bandeirantes\, 405 - Cambuí:geo:-47.0515171,-22.8923332
END:VEVENT
BEGIN:VEVENT
DTSTART;VALUE=DATE:20251126
DTEND;VALUE=DATE:20251211
DTSTAMP:20260425T075251
CREATED:20250520T143719Z
LAST-MODIFIED:20250520T143719Z
UID:10004251-1764115200-1765411199@semanadalinguaalema.com.br
SUMMARY:DOAÇĀO DE LIVROS
DESCRIPTION:Romances\, biografias\, policiais e muito mais.
URL:https://semanadalinguaalema.com.br/evento/doacao-de-livros/2025-11-26/
LOCATION:Insituto Kreativ\, Rua dos Bandeirantes\, 405 - Cambuí\, Campinas\, São Paulo\, 13024011\, Brasil
CATEGORIES:Literatura
ORGANIZER;CN="Insituto Kreativ":MAILTO:kreativ@kreativ.com.br
GEO:-22.8923332;-47.0515171
X-APPLE-STRUCTURED-LOCATION;VALUE=URI;X-ADDRESS=Insituto Kreativ Rua dos Bandeirantes 405 - Cambuí Campinas São Paulo 13024011 Brasil;X-APPLE-RADIUS=500;X-TITLE=Rua dos Bandeirantes\, 405 - Cambuí:geo:-47.0515171,-22.8923332
END:VEVENT
BEGIN:VEVENT
DTSTART;VALUE=DATE:20251127
DTEND;VALUE=DATE:20251212
DTSTAMP:20260425T075251
CREATED:20250520T143719Z
LAST-MODIFIED:20250520T143719Z
UID:10004252-1764201600-1765497599@semanadalinguaalema.com.br
SUMMARY:DOAÇĀO DE LIVROS
DESCRIPTION:Romances\, biografias\, policiais e muito mais.
URL:https://semanadalinguaalema.com.br/evento/doacao-de-livros/2025-11-27/
LOCATION:Insituto Kreativ\, Rua dos Bandeirantes\, 405 - Cambuí\, Campinas\, São Paulo\, 13024011\, Brasil
CATEGORIES:Literatura
ORGANIZER;CN="Insituto Kreativ":MAILTO:kreativ@kreativ.com.br
GEO:-22.8923332;-47.0515171
X-APPLE-STRUCTURED-LOCATION;VALUE=URI;X-ADDRESS=Insituto Kreativ Rua dos Bandeirantes 405 - Cambuí Campinas São Paulo 13024011 Brasil;X-APPLE-RADIUS=500;X-TITLE=Rua dos Bandeirantes\, 405 - Cambuí:geo:-47.0515171,-22.8923332
END:VEVENT
BEGIN:VEVENT
DTSTART;TZID=America/Sao_Paulo:20251127T090000
DTEND;TZID=America/Sao_Paulo:20251127T160000
DTSTAMP:20260425T075251
CREATED:20250505T113522Z
LAST-MODIFIED:20250505T113522Z
UID:10002041-1764234000-1764259200@semanadalinguaalema.com.br
SUMMARY:Spiel-Stationen im Deutschunterricht
DESCRIPTION:Nas aulas de alemão regulares do Colégio de Aplicação/UFSC (do 6º ano Ensino Fundamental ao 3º ano Ensino Médio)\, durante a Semana da Língua Alemã\, ofereceremos aos nossos alunos diversos “Spiel-Stationen” (estações com jogos). Cada “Station” envolverá os alunos (em grupinhos) em um tipo de jogo (físico ou virtual) que terá seu propósito de aprendizagem com a língua alemã.
URL:https://semanadalinguaalema.com.br/evento/spiel-stationen-im-deutschunterricht/2025-11-27/
LOCATION:Colégio de Aplicação UFSC\, R. Eng. Agronômico Andrei Cristian Ferreira - Trindade\, Florianópolis\, Santa Catarina\, 88040-900\, Brasil
CATEGORIES:Educação
ORGANIZER;CN="C%C3%A1ssia Sigle":MAILTO:sigle.cassia@ufsc.br
GEO:-27.6017725;-48.5216109
X-APPLE-STRUCTURED-LOCATION;VALUE=URI;X-ADDRESS=Colégio de Aplicação UFSC R. Eng. Agronômico Andrei Cristian Ferreira - Trindade Florianópolis Santa Catarina 88040-900 Brasil;X-APPLE-RADIUS=500;X-TITLE=R. Eng. Agronômico Andrei Cristian Ferreira - Trindade:geo:-48.5216109,-27.6017725
END:VEVENT
BEGIN:VEVENT
DTSTART;VALUE=DATE:20251128
DTEND;VALUE=DATE:20251213
DTSTAMP:20260425T075251
CREATED:20250520T143719Z
LAST-MODIFIED:20250520T143719Z
UID:10004253-1764288000-1765583999@semanadalinguaalema.com.br
SUMMARY:DOAÇĀO DE LIVROS
DESCRIPTION:Romances\, biografias\, policiais e muito mais.
URL:https://semanadalinguaalema.com.br/evento/doacao-de-livros/2025-11-28/
LOCATION:Insituto Kreativ\, Rua dos Bandeirantes\, 405 - Cambuí\, Campinas\, São Paulo\, 13024011\, Brasil
CATEGORIES:Literatura
ORGANIZER;CN="Insituto Kreativ":MAILTO:kreativ@kreativ.com.br
GEO:-22.8923332;-47.0515171
X-APPLE-STRUCTURED-LOCATION;VALUE=URI;X-ADDRESS=Insituto Kreativ Rua dos Bandeirantes 405 - Cambuí Campinas São Paulo 13024011 Brasil;X-APPLE-RADIUS=500;X-TITLE=Rua dos Bandeirantes\, 405 - Cambuí:geo:-47.0515171,-22.8923332
END:VEVENT
BEGIN:VEVENT
DTSTART;VALUE=DATE:20251129
DTEND;VALUE=DATE:20251214
DTSTAMP:20260425T075251
CREATED:20250520T143719Z
LAST-MODIFIED:20250520T143719Z
UID:10004254-1764374400-1765670399@semanadalinguaalema.com.br
SUMMARY:DOAÇĀO DE LIVROS
DESCRIPTION:Romances\, biografias\, policiais e muito mais.
URL:https://semanadalinguaalema.com.br/evento/doacao-de-livros/2025-11-29/
LOCATION:Insituto Kreativ\, Rua dos Bandeirantes\, 405 - Cambuí\, Campinas\, São Paulo\, 13024011\, Brasil
CATEGORIES:Literatura
ORGANIZER;CN="Insituto Kreativ":MAILTO:kreativ@kreativ.com.br
GEO:-22.8923332;-47.0515171
X-APPLE-STRUCTURED-LOCATION;VALUE=URI;X-ADDRESS=Insituto Kreativ Rua dos Bandeirantes 405 - Cambuí Campinas São Paulo 13024011 Brasil;X-APPLE-RADIUS=500;X-TITLE=Rua dos Bandeirantes\, 405 - Cambuí:geo:-47.0515171,-22.8923332
END:VEVENT
BEGIN:VEVENT
DTSTART;TZID=America/Sao_Paulo:20251129T100000
DTEND;TZID=America/Sao_Paulo:20251129T114500
DTSTAMP:20260425T075251
CREATED:20250610T114219Z
LAST-MODIFIED:20250610T114219Z
UID:10006018-1764410400-1764416700@semanadalinguaalema.com.br
SUMMARY:Deutscher Jugendclub Cultura Alemã Joinville
DESCRIPTION:Você sabia que a Cultura Alemã de Joinville tem um projeto para incentivar a prática do idioma alemão\, específico para crônicas e jovens entre 12 e 18 anos? Trata-se do Jugendclub (ou Clube Juvenil).
URL:https://semanadalinguaalema.com.br/evento/deutscher-jugendclub-cultura-alema-joinville/2025-11-29/
LOCATION:Casa da Memória\, Rua XV de Novembro\, 1000\, Joinville\, Santa Catarina\, 89201-602\, Brasil
CATEGORIES:Educação
ATTACH;FMTTYPE=image/jpeg:https://semanadalinguaalema.com.br/wp-content/uploads/2025/06/IMG_6719-2.jpeg
ORGANIZER;CN="Sociedade Cultural Alem%C3%A3 de Joinville":MAILTO:dkvj@terra.com.br
GEO:-26.2995529;-48.8517868
X-APPLE-STRUCTURED-LOCATION;VALUE=URI;X-ADDRESS=Casa da Memória Rua XV de Novembro 1000 Joinville Santa Catarina 89201-602 Brasil;X-APPLE-RADIUS=500;X-TITLE=Rua XV de Novembro\, 1000:geo:-48.8517868,-26.2995529
END:VEVENT
END:VCALENDAR