BEGIN:VCALENDAR
VERSION:2.0
PRODID:-//Semana da Língua Alemã - ECPv6.4.0.1//NONSGML v1.0//EN
CALSCALE:GREGORIAN
METHOD:PUBLISH
X-WR-CALNAME:Semana da Língua Alemã
X-ORIGINAL-URL:https://semanadalinguaalema.com.br
X-WR-CALDESC:Eventos para Semana da Língua Alemã
REFRESH-INTERVAL;VALUE=DURATION:PT1H
X-Robots-Tag:noindex
X-PUBLISHED-TTL:PT1H
BEGIN:VTIMEZONE
TZID:America/Sao_Paulo
BEGIN:STANDARD
TZOFFSETFROM:-0300
TZOFFSETTO:-0300
TZNAME:-03
DTSTART:20250101T000000
END:STANDARD
END:VTIMEZONE
BEGIN:VEVENT
DTSTART;VALUE=DATE:20250907
DTEND;VALUE=DATE:20250922
DTSTAMP:20260425T093606
CREATED:20250520T143719Z
LAST-MODIFIED:20250520T143719Z
UID:10004171-1757203200-1758499199@semanadalinguaalema.com.br
SUMMARY:DOAÇĀO DE LIVROS
DESCRIPTION:Romances\, biografias\, policiais e muito mais.
URL:https://semanadalinguaalema.com.br/evento/doacao-de-livros/2025-09-07/
LOCATION:Insituto Kreativ\, Rua dos Bandeirantes\, 405 - Cambuí\, Campinas\, São Paulo\, 13024011\, Brasil
CATEGORIES:Literatura
ORGANIZER;CN="Insituto Kreativ":MAILTO:kreativ@kreativ.com.br
GEO:-22.8923332;-47.0515171
X-APPLE-STRUCTURED-LOCATION;VALUE=URI;X-ADDRESS=Insituto Kreativ Rua dos Bandeirantes 405 - Cambuí Campinas São Paulo 13024011 Brasil;X-APPLE-RADIUS=500;X-TITLE=Rua dos Bandeirantes\, 405 - Cambuí:geo:-47.0515171,-22.8923332
END:VEVENT
BEGIN:VEVENT
DTSTART;VALUE=DATE:20250908
DTEND;VALUE=DATE:20250923
DTSTAMP:20260425T093606
CREATED:20250520T143719Z
LAST-MODIFIED:20250520T143719Z
UID:10004172-1757289600-1758585599@semanadalinguaalema.com.br
SUMMARY:DOAÇĀO DE LIVROS
DESCRIPTION:Romances\, biografias\, policiais e muito mais.
URL:https://semanadalinguaalema.com.br/evento/doacao-de-livros/2025-09-08/
LOCATION:Insituto Kreativ\, Rua dos Bandeirantes\, 405 - Cambuí\, Campinas\, São Paulo\, 13024011\, Brasil
CATEGORIES:Literatura
ORGANIZER;CN="Insituto Kreativ":MAILTO:kreativ@kreativ.com.br
GEO:-22.8923332;-47.0515171
X-APPLE-STRUCTURED-LOCATION;VALUE=URI;X-ADDRESS=Insituto Kreativ Rua dos Bandeirantes 405 - Cambuí Campinas São Paulo 13024011 Brasil;X-APPLE-RADIUS=500;X-TITLE=Rua dos Bandeirantes\, 405 - Cambuí:geo:-47.0515171,-22.8923332
END:VEVENT
BEGIN:VEVENT
DTSTART;VALUE=DATE:20250909
DTEND;VALUE=DATE:20250924
DTSTAMP:20260425T093606
CREATED:20250520T143719Z
LAST-MODIFIED:20250520T143719Z
UID:10004173-1757376000-1758671999@semanadalinguaalema.com.br
SUMMARY:DOAÇĀO DE LIVROS
DESCRIPTION:Romances\, biografias\, policiais e muito mais.
URL:https://semanadalinguaalema.com.br/evento/doacao-de-livros/2025-09-09/
LOCATION:Insituto Kreativ\, Rua dos Bandeirantes\, 405 - Cambuí\, Campinas\, São Paulo\, 13024011\, Brasil
CATEGORIES:Literatura
ORGANIZER;CN="Insituto Kreativ":MAILTO:kreativ@kreativ.com.br
GEO:-22.8923332;-47.0515171
X-APPLE-STRUCTURED-LOCATION;VALUE=URI;X-ADDRESS=Insituto Kreativ Rua dos Bandeirantes 405 - Cambuí Campinas São Paulo 13024011 Brasil;X-APPLE-RADIUS=500;X-TITLE=Rua dos Bandeirantes\, 405 - Cambuí:geo:-47.0515171,-22.8923332
END:VEVENT
BEGIN:VEVENT
DTSTART;VALUE=DATE:20250910
DTEND;VALUE=DATE:20250925
DTSTAMP:20260425T093606
CREATED:20250520T143719Z
LAST-MODIFIED:20250520T143719Z
UID:10004174-1757462400-1758758399@semanadalinguaalema.com.br
SUMMARY:DOAÇĀO DE LIVROS
DESCRIPTION:Romances\, biografias\, policiais e muito mais.
URL:https://semanadalinguaalema.com.br/evento/doacao-de-livros/2025-09-10/
LOCATION:Insituto Kreativ\, Rua dos Bandeirantes\, 405 - Cambuí\, Campinas\, São Paulo\, 13024011\, Brasil
CATEGORIES:Literatura
ORGANIZER;CN="Insituto Kreativ":MAILTO:kreativ@kreativ.com.br
GEO:-22.8923332;-47.0515171
X-APPLE-STRUCTURED-LOCATION;VALUE=URI;X-ADDRESS=Insituto Kreativ Rua dos Bandeirantes 405 - Cambuí Campinas São Paulo 13024011 Brasil;X-APPLE-RADIUS=500;X-TITLE=Rua dos Bandeirantes\, 405 - Cambuí:geo:-47.0515171,-22.8923332
END:VEVENT
BEGIN:VEVENT
DTSTART;VALUE=DATE:20250911
DTEND;VALUE=DATE:20250926
DTSTAMP:20260425T093606
CREATED:20250520T143719Z
LAST-MODIFIED:20250520T143719Z
UID:10004175-1757548800-1758844799@semanadalinguaalema.com.br
SUMMARY:DOAÇĀO DE LIVROS
DESCRIPTION:Romances\, biografias\, policiais e muito mais.
URL:https://semanadalinguaalema.com.br/evento/doacao-de-livros/2025-09-11/
LOCATION:Insituto Kreativ\, Rua dos Bandeirantes\, 405 - Cambuí\, Campinas\, São Paulo\, 13024011\, Brasil
CATEGORIES:Literatura
ORGANIZER;CN="Insituto Kreativ":MAILTO:kreativ@kreativ.com.br
GEO:-22.8923332;-47.0515171
X-APPLE-STRUCTURED-LOCATION;VALUE=URI;X-ADDRESS=Insituto Kreativ Rua dos Bandeirantes 405 - Cambuí Campinas São Paulo 13024011 Brasil;X-APPLE-RADIUS=500;X-TITLE=Rua dos Bandeirantes\, 405 - Cambuí:geo:-47.0515171,-22.8923332
END:VEVENT
BEGIN:VEVENT
DTSTART;VALUE=DATE:20250912
DTEND;VALUE=DATE:20250927
DTSTAMP:20260425T093606
CREATED:20250520T143719Z
LAST-MODIFIED:20250520T143719Z
UID:10004176-1757635200-1758931199@semanadalinguaalema.com.br
SUMMARY:DOAÇĀO DE LIVROS
DESCRIPTION:Romances\, biografias\, policiais e muito mais.
URL:https://semanadalinguaalema.com.br/evento/doacao-de-livros/2025-09-12/
LOCATION:Insituto Kreativ\, Rua dos Bandeirantes\, 405 - Cambuí\, Campinas\, São Paulo\, 13024011\, Brasil
CATEGORIES:Literatura
ORGANIZER;CN="Insituto Kreativ":MAILTO:kreativ@kreativ.com.br
GEO:-22.8923332;-47.0515171
X-APPLE-STRUCTURED-LOCATION;VALUE=URI;X-ADDRESS=Insituto Kreativ Rua dos Bandeirantes 405 - Cambuí Campinas São Paulo 13024011 Brasil;X-APPLE-RADIUS=500;X-TITLE=Rua dos Bandeirantes\, 405 - Cambuí:geo:-47.0515171,-22.8923332
END:VEVENT
BEGIN:VEVENT
DTSTART;VALUE=DATE:20250913
DTEND;VALUE=DATE:20250928
DTSTAMP:20260425T093606
CREATED:20250520T143719Z
LAST-MODIFIED:20250520T143719Z
UID:10004177-1757721600-1759017599@semanadalinguaalema.com.br
SUMMARY:DOAÇĀO DE LIVROS
DESCRIPTION:Romances\, biografias\, policiais e muito mais.
URL:https://semanadalinguaalema.com.br/evento/doacao-de-livros/2025-09-13/
LOCATION:Insituto Kreativ\, Rua dos Bandeirantes\, 405 - Cambuí\, Campinas\, São Paulo\, 13024011\, Brasil
CATEGORIES:Literatura
ORGANIZER;CN="Insituto Kreativ":MAILTO:kreativ@kreativ.com.br
GEO:-22.8923332;-47.0515171
X-APPLE-STRUCTURED-LOCATION;VALUE=URI;X-ADDRESS=Insituto Kreativ Rua dos Bandeirantes 405 - Cambuí Campinas São Paulo 13024011 Brasil;X-APPLE-RADIUS=500;X-TITLE=Rua dos Bandeirantes\, 405 - Cambuí:geo:-47.0515171,-22.8923332
END:VEVENT
BEGIN:VEVENT
DTSTART;VALUE=DATE:20250914
DTEND;VALUE=DATE:20250929
DTSTAMP:20260425T093606
CREATED:20250520T143719Z
LAST-MODIFIED:20250520T143719Z
UID:10004178-1757808000-1759103999@semanadalinguaalema.com.br
SUMMARY:DOAÇĀO DE LIVROS
DESCRIPTION:Romances\, biografias\, policiais e muito mais.
URL:https://semanadalinguaalema.com.br/evento/doacao-de-livros/2025-09-14/
LOCATION:Insituto Kreativ\, Rua dos Bandeirantes\, 405 - Cambuí\, Campinas\, São Paulo\, 13024011\, Brasil
CATEGORIES:Literatura
ORGANIZER;CN="Insituto Kreativ":MAILTO:kreativ@kreativ.com.br
GEO:-22.8923332;-47.0515171
X-APPLE-STRUCTURED-LOCATION;VALUE=URI;X-ADDRESS=Insituto Kreativ Rua dos Bandeirantes 405 - Cambuí Campinas São Paulo 13024011 Brasil;X-APPLE-RADIUS=500;X-TITLE=Rua dos Bandeirantes\, 405 - Cambuí:geo:-47.0515171,-22.8923332
END:VEVENT
BEGIN:VEVENT
DTSTART;VALUE=DATE:20250915
DTEND;VALUE=DATE:20250930
DTSTAMP:20260425T093606
CREATED:20250520T143719Z
LAST-MODIFIED:20250520T143719Z
UID:10004179-1757894400-1759190399@semanadalinguaalema.com.br
SUMMARY:DOAÇĀO DE LIVROS
DESCRIPTION:Romances\, biografias\, policiais e muito mais.
URL:https://semanadalinguaalema.com.br/evento/doacao-de-livros/2025-09-15/
LOCATION:Insituto Kreativ\, Rua dos Bandeirantes\, 405 - Cambuí\, Campinas\, São Paulo\, 13024011\, Brasil
CATEGORIES:Literatura
ORGANIZER;CN="Insituto Kreativ":MAILTO:kreativ@kreativ.com.br
GEO:-22.8923332;-47.0515171
X-APPLE-STRUCTURED-LOCATION;VALUE=URI;X-ADDRESS=Insituto Kreativ Rua dos Bandeirantes 405 - Cambuí Campinas São Paulo 13024011 Brasil;X-APPLE-RADIUS=500;X-TITLE=Rua dos Bandeirantes\, 405 - Cambuí:geo:-47.0515171,-22.8923332
END:VEVENT
BEGIN:VEVENT
DTSTART;VALUE=DATE:20250916
DTEND;VALUE=DATE:20251001
DTSTAMP:20260425T093606
CREATED:20250520T143719Z
LAST-MODIFIED:20250520T143719Z
UID:10004180-1757980800-1759276799@semanadalinguaalema.com.br
SUMMARY:DOAÇĀO DE LIVROS
DESCRIPTION:Romances\, biografias\, policiais e muito mais.
URL:https://semanadalinguaalema.com.br/evento/doacao-de-livros/2025-09-16/
LOCATION:Insituto Kreativ\, Rua dos Bandeirantes\, 405 - Cambuí\, Campinas\, São Paulo\, 13024011\, Brasil
CATEGORIES:Literatura
ORGANIZER;CN="Insituto Kreativ":MAILTO:kreativ@kreativ.com.br
GEO:-22.8923332;-47.0515171
X-APPLE-STRUCTURED-LOCATION;VALUE=URI;X-ADDRESS=Insituto Kreativ Rua dos Bandeirantes 405 - Cambuí Campinas São Paulo 13024011 Brasil;X-APPLE-RADIUS=500;X-TITLE=Rua dos Bandeirantes\, 405 - Cambuí:geo:-47.0515171,-22.8923332
END:VEVENT
BEGIN:VEVENT
DTSTART;VALUE=DATE:20250917
DTEND;VALUE=DATE:20251002
DTSTAMP:20260425T093606
CREATED:20250520T143719Z
LAST-MODIFIED:20250520T143719Z
UID:10004181-1758067200-1759363199@semanadalinguaalema.com.br
SUMMARY:DOAÇĀO DE LIVROS
DESCRIPTION:Romances\, biografias\, policiais e muito mais.
URL:https://semanadalinguaalema.com.br/evento/doacao-de-livros/2025-09-17/
LOCATION:Insituto Kreativ\, Rua dos Bandeirantes\, 405 - Cambuí\, Campinas\, São Paulo\, 13024011\, Brasil
CATEGORIES:Literatura
ORGANIZER;CN="Insituto Kreativ":MAILTO:kreativ@kreativ.com.br
GEO:-22.8923332;-47.0515171
X-APPLE-STRUCTURED-LOCATION;VALUE=URI;X-ADDRESS=Insituto Kreativ Rua dos Bandeirantes 405 - Cambuí Campinas São Paulo 13024011 Brasil;X-APPLE-RADIUS=500;X-TITLE=Rua dos Bandeirantes\, 405 - Cambuí:geo:-47.0515171,-22.8923332
END:VEVENT
BEGIN:VEVENT
DTSTART;VALUE=DATE:20250918
DTEND;VALUE=DATE:20251003
DTSTAMP:20260425T093606
CREATED:20250520T143719Z
LAST-MODIFIED:20250520T143719Z
UID:10004182-1758153600-1759449599@semanadalinguaalema.com.br
SUMMARY:DOAÇĀO DE LIVROS
DESCRIPTION:Romances\, biografias\, policiais e muito mais.
URL:https://semanadalinguaalema.com.br/evento/doacao-de-livros/2025-09-18/
LOCATION:Insituto Kreativ\, Rua dos Bandeirantes\, 405 - Cambuí\, Campinas\, São Paulo\, 13024011\, Brasil
CATEGORIES:Literatura
ORGANIZER;CN="Insituto Kreativ":MAILTO:kreativ@kreativ.com.br
GEO:-22.8923332;-47.0515171
X-APPLE-STRUCTURED-LOCATION;VALUE=URI;X-ADDRESS=Insituto Kreativ Rua dos Bandeirantes 405 - Cambuí Campinas São Paulo 13024011 Brasil;X-APPLE-RADIUS=500;X-TITLE=Rua dos Bandeirantes\, 405 - Cambuí:geo:-47.0515171,-22.8923332
END:VEVENT
BEGIN:VEVENT
DTSTART;VALUE=DATE:20250919
DTEND;VALUE=DATE:20251004
DTSTAMP:20260425T093606
CREATED:20250520T143719Z
LAST-MODIFIED:20250520T143719Z
UID:10004183-1758240000-1759535999@semanadalinguaalema.com.br
SUMMARY:DOAÇĀO DE LIVROS
DESCRIPTION:Romances\, biografias\, policiais e muito mais.
URL:https://semanadalinguaalema.com.br/evento/doacao-de-livros/2025-09-19/
LOCATION:Insituto Kreativ\, Rua dos Bandeirantes\, 405 - Cambuí\, Campinas\, São Paulo\, 13024011\, Brasil
CATEGORIES:Literatura
ORGANIZER;CN="Insituto Kreativ":MAILTO:kreativ@kreativ.com.br
GEO:-22.8923332;-47.0515171
X-APPLE-STRUCTURED-LOCATION;VALUE=URI;X-ADDRESS=Insituto Kreativ Rua dos Bandeirantes 405 - Cambuí Campinas São Paulo 13024011 Brasil;X-APPLE-RADIUS=500;X-TITLE=Rua dos Bandeirantes\, 405 - Cambuí:geo:-47.0515171,-22.8923332
END:VEVENT
BEGIN:VEVENT
DTSTART;VALUE=DATE:20250920
DTEND;VALUE=DATE:20251005
DTSTAMP:20260425T093606
CREATED:20250520T143719Z
LAST-MODIFIED:20250520T143719Z
UID:10004184-1758326400-1759622399@semanadalinguaalema.com.br
SUMMARY:DOAÇĀO DE LIVROS
DESCRIPTION:Romances\, biografias\, policiais e muito mais.
URL:https://semanadalinguaalema.com.br/evento/doacao-de-livros/2025-09-20/
LOCATION:Insituto Kreativ\, Rua dos Bandeirantes\, 405 - Cambuí\, Campinas\, São Paulo\, 13024011\, Brasil
CATEGORIES:Literatura
ORGANIZER;CN="Insituto Kreativ":MAILTO:kreativ@kreativ.com.br
GEO:-22.8923332;-47.0515171
X-APPLE-STRUCTURED-LOCATION;VALUE=URI;X-ADDRESS=Insituto Kreativ Rua dos Bandeirantes 405 - Cambuí Campinas São Paulo 13024011 Brasil;X-APPLE-RADIUS=500;X-TITLE=Rua dos Bandeirantes\, 405 - Cambuí:geo:-47.0515171,-22.8923332
END:VEVENT
BEGIN:VEVENT
DTSTART;VALUE=DATE:20250921
DTEND;VALUE=DATE:20251006
DTSTAMP:20260425T093606
CREATED:20250520T143719Z
LAST-MODIFIED:20250520T143719Z
UID:10004185-1758412800-1759708799@semanadalinguaalema.com.br
SUMMARY:DOAÇĀO DE LIVROS
DESCRIPTION:Romances\, biografias\, policiais e muito mais.
URL:https://semanadalinguaalema.com.br/evento/doacao-de-livros/2025-09-21/
LOCATION:Insituto Kreativ\, Rua dos Bandeirantes\, 405 - Cambuí\, Campinas\, São Paulo\, 13024011\, Brasil
CATEGORIES:Literatura
ORGANIZER;CN="Insituto Kreativ":MAILTO:kreativ@kreativ.com.br
GEO:-22.8923332;-47.0515171
X-APPLE-STRUCTURED-LOCATION;VALUE=URI;X-ADDRESS=Insituto Kreativ Rua dos Bandeirantes 405 - Cambuí Campinas São Paulo 13024011 Brasil;X-APPLE-RADIUS=500;X-TITLE=Rua dos Bandeirantes\, 405 - Cambuí:geo:-47.0515171,-22.8923332
END:VEVENT
BEGIN:VEVENT
DTSTART;VALUE=DATE:20250922
DTEND;VALUE=DATE:20251007
DTSTAMP:20260425T093606
CREATED:20250520T143719Z
LAST-MODIFIED:20250520T143719Z
UID:10004186-1758499200-1759795199@semanadalinguaalema.com.br
SUMMARY:DOAÇĀO DE LIVROS
DESCRIPTION:Romances\, biografias\, policiais e muito mais.
URL:https://semanadalinguaalema.com.br/evento/doacao-de-livros/2025-09-22/
LOCATION:Insituto Kreativ\, Rua dos Bandeirantes\, 405 - Cambuí\, Campinas\, São Paulo\, 13024011\, Brasil
CATEGORIES:Literatura
ORGANIZER;CN="Insituto Kreativ":MAILTO:kreativ@kreativ.com.br
GEO:-22.8923332;-47.0515171
X-APPLE-STRUCTURED-LOCATION;VALUE=URI;X-ADDRESS=Insituto Kreativ Rua dos Bandeirantes 405 - Cambuí Campinas São Paulo 13024011 Brasil;X-APPLE-RADIUS=500;X-TITLE=Rua dos Bandeirantes\, 405 - Cambuí:geo:-47.0515171,-22.8923332
END:VEVENT
BEGIN:VEVENT
DTSTART;VALUE=DATE:20250923
DTEND;VALUE=DATE:20251008
DTSTAMP:20260425T093606
CREATED:20250520T143719Z
LAST-MODIFIED:20250520T143719Z
UID:10004187-1758585600-1759881599@semanadalinguaalema.com.br
SUMMARY:DOAÇĀO DE LIVROS
DESCRIPTION:Romances\, biografias\, policiais e muito mais.
URL:https://semanadalinguaalema.com.br/evento/doacao-de-livros/2025-09-23/
LOCATION:Insituto Kreativ\, Rua dos Bandeirantes\, 405 - Cambuí\, Campinas\, São Paulo\, 13024011\, Brasil
CATEGORIES:Literatura
ORGANIZER;CN="Insituto Kreativ":MAILTO:kreativ@kreativ.com.br
GEO:-22.8923332;-47.0515171
X-APPLE-STRUCTURED-LOCATION;VALUE=URI;X-ADDRESS=Insituto Kreativ Rua dos Bandeirantes 405 - Cambuí Campinas São Paulo 13024011 Brasil;X-APPLE-RADIUS=500;X-TITLE=Rua dos Bandeirantes\, 405 - Cambuí:geo:-47.0515171,-22.8923332
END:VEVENT
BEGIN:VEVENT
DTSTART;VALUE=DATE:20250924
DTEND;VALUE=DATE:20251009
DTSTAMP:20260425T093606
CREATED:20250520T143719Z
LAST-MODIFIED:20250520T143719Z
UID:10004188-1758672000-1759967999@semanadalinguaalema.com.br
SUMMARY:DOAÇĀO DE LIVROS
DESCRIPTION:Romances\, biografias\, policiais e muito mais.
URL:https://semanadalinguaalema.com.br/evento/doacao-de-livros/2025-09-24/
LOCATION:Insituto Kreativ\, Rua dos Bandeirantes\, 405 - Cambuí\, Campinas\, São Paulo\, 13024011\, Brasil
CATEGORIES:Literatura
ORGANIZER;CN="Insituto Kreativ":MAILTO:kreativ@kreativ.com.br
GEO:-22.8923332;-47.0515171
X-APPLE-STRUCTURED-LOCATION;VALUE=URI;X-ADDRESS=Insituto Kreativ Rua dos Bandeirantes 405 - Cambuí Campinas São Paulo 13024011 Brasil;X-APPLE-RADIUS=500;X-TITLE=Rua dos Bandeirantes\, 405 - Cambuí:geo:-47.0515171,-22.8923332
END:VEVENT
BEGIN:VEVENT
DTSTART;TZID=America/Sao_Paulo:20250924T090000
DTEND;TZID=America/Sao_Paulo:20250924T160000
DTSTAMP:20260425T093606
CREATED:20250505T113522Z
LAST-MODIFIED:20250505T113522Z
UID:10002025-1758704400-1758729600@semanadalinguaalema.com.br
SUMMARY:Spiel-Stationen im Deutschunterricht
DESCRIPTION:Nas aulas de alemão regulares do Colégio de Aplicação/UFSC (do 6º ano Ensino Fundamental ao 3º ano Ensino Médio)\, durante a Semana da Língua Alemã\, ofereceremos aos nossos alunos diversos “Spiel-Stationen” (estações com jogos). Cada “Station” envolverá os alunos (em grupinhos) em um tipo de jogo (físico ou virtual) que terá seu propósito de aprendizagem com a língua alemã.
URL:https://semanadalinguaalema.com.br/evento/spiel-stationen-im-deutschunterricht/2025-09-24/
LOCATION:Colégio de Aplicação UFSC\, R. Eng. Agronômico Andrei Cristian Ferreira - Trindade\, Florianópolis\, Santa Catarina\, 88040-900\, Brasil
CATEGORIES:Educação
ORGANIZER;CN="C%C3%A1ssia Sigle":MAILTO:sigle.cassia@ufsc.br
GEO:-27.6017725;-48.5216109
X-APPLE-STRUCTURED-LOCATION;VALUE=URI;X-ADDRESS=Colégio de Aplicação UFSC R. Eng. Agronômico Andrei Cristian Ferreira - Trindade Florianópolis Santa Catarina 88040-900 Brasil;X-APPLE-RADIUS=500;X-TITLE=R. Eng. Agronômico Andrei Cristian Ferreira - Trindade:geo:-48.5216109,-27.6017725
END:VEVENT
BEGIN:VEVENT
DTSTART;VALUE=DATE:20250925
DTEND;VALUE=DATE:20251010
DTSTAMP:20260425T093606
CREATED:20250520T143719Z
LAST-MODIFIED:20250520T143719Z
UID:10004189-1758758400-1760054399@semanadalinguaalema.com.br
SUMMARY:DOAÇĀO DE LIVROS
DESCRIPTION:Romances\, biografias\, policiais e muito mais.
URL:https://semanadalinguaalema.com.br/evento/doacao-de-livros/2025-09-25/
LOCATION:Insituto Kreativ\, Rua dos Bandeirantes\, 405 - Cambuí\, Campinas\, São Paulo\, 13024011\, Brasil
CATEGORIES:Literatura
ORGANIZER;CN="Insituto Kreativ":MAILTO:kreativ@kreativ.com.br
GEO:-22.8923332;-47.0515171
X-APPLE-STRUCTURED-LOCATION;VALUE=URI;X-ADDRESS=Insituto Kreativ Rua dos Bandeirantes 405 - Cambuí Campinas São Paulo 13024011 Brasil;X-APPLE-RADIUS=500;X-TITLE=Rua dos Bandeirantes\, 405 - Cambuí:geo:-47.0515171,-22.8923332
END:VEVENT
BEGIN:VEVENT
DTSTART;VALUE=DATE:20250926
DTEND;VALUE=DATE:20251011
DTSTAMP:20260425T093606
CREATED:20250520T143719Z
LAST-MODIFIED:20250520T143719Z
UID:10004190-1758844800-1760140799@semanadalinguaalema.com.br
SUMMARY:DOAÇĀO DE LIVROS
DESCRIPTION:Romances\, biografias\, policiais e muito mais.
URL:https://semanadalinguaalema.com.br/evento/doacao-de-livros/2025-09-26/
LOCATION:Insituto Kreativ\, Rua dos Bandeirantes\, 405 - Cambuí\, Campinas\, São Paulo\, 13024011\, Brasil
CATEGORIES:Literatura
ORGANIZER;CN="Insituto Kreativ":MAILTO:kreativ@kreativ.com.br
GEO:-22.8923332;-47.0515171
X-APPLE-STRUCTURED-LOCATION;VALUE=URI;X-ADDRESS=Insituto Kreativ Rua dos Bandeirantes 405 - Cambuí Campinas São Paulo 13024011 Brasil;X-APPLE-RADIUS=500;X-TITLE=Rua dos Bandeirantes\, 405 - Cambuí:geo:-47.0515171,-22.8923332
END:VEVENT
BEGIN:VEVENT
DTSTART;VALUE=DATE:20250927
DTEND;VALUE=DATE:20251012
DTSTAMP:20260425T093606
CREATED:20250520T143719Z
LAST-MODIFIED:20250520T143719Z
UID:10004191-1758931200-1760227199@semanadalinguaalema.com.br
SUMMARY:DOAÇĀO DE LIVROS
DESCRIPTION:Romances\, biografias\, policiais e muito mais.
URL:https://semanadalinguaalema.com.br/evento/doacao-de-livros/2025-09-27/
LOCATION:Insituto Kreativ\, Rua dos Bandeirantes\, 405 - Cambuí\, Campinas\, São Paulo\, 13024011\, Brasil
CATEGORIES:Literatura
ORGANIZER;CN="Insituto Kreativ":MAILTO:kreativ@kreativ.com.br
GEO:-22.8923332;-47.0515171
X-APPLE-STRUCTURED-LOCATION;VALUE=URI;X-ADDRESS=Insituto Kreativ Rua dos Bandeirantes 405 - Cambuí Campinas São Paulo 13024011 Brasil;X-APPLE-RADIUS=500;X-TITLE=Rua dos Bandeirantes\, 405 - Cambuí:geo:-47.0515171,-22.8923332
END:VEVENT
BEGIN:VEVENT
DTSTART;TZID=America/Sao_Paulo:20250927T100000
DTEND;TZID=America/Sao_Paulo:20250927T114500
DTSTAMP:20260425T093606
CREATED:20250610T114219Z
LAST-MODIFIED:20250610T114219Z
UID:10006009-1758967200-1758973500@semanadalinguaalema.com.br
SUMMARY:Deutscher Jugendclub Cultura Alemã Joinville
DESCRIPTION:Você sabia que a Cultura Alemã de Joinville tem um projeto para incentivar a prática do idioma alemão\, específico para crônicas e jovens entre 12 e 18 anos? Trata-se do Jugendclub (ou Clube Juvenil).
URL:https://semanadalinguaalema.com.br/evento/deutscher-jugendclub-cultura-alema-joinville/2025-09-27/
LOCATION:Casa da Memória\, Rua XV de Novembro\, 1000\, Joinville\, Santa Catarina\, 89201-602\, Brasil
CATEGORIES:Educação
ATTACH;FMTTYPE=image/jpeg:https://semanadalinguaalema.com.br/wp-content/uploads/2025/06/IMG_6719-2.jpeg
ORGANIZER;CN="Sociedade Cultural Alem%C3%A3 de Joinville":MAILTO:dkvj@terra.com.br
GEO:-26.2995529;-48.8517868
X-APPLE-STRUCTURED-LOCATION;VALUE=URI;X-ADDRESS=Casa da Memória Rua XV de Novembro 1000 Joinville Santa Catarina 89201-602 Brasil;X-APPLE-RADIUS=500;X-TITLE=Rua XV de Novembro\, 1000:geo:-48.8517868,-26.2995529
END:VEVENT
BEGIN:VEVENT
DTSTART;VALUE=DATE:20250928
DTEND;VALUE=DATE:20251013
DTSTAMP:20260425T093606
CREATED:20250520T143719Z
LAST-MODIFIED:20250520T143719Z
UID:10004192-1759017600-1760313599@semanadalinguaalema.com.br
SUMMARY:DOAÇĀO DE LIVROS
DESCRIPTION:Romances\, biografias\, policiais e muito mais.
URL:https://semanadalinguaalema.com.br/evento/doacao-de-livros/2025-09-28/
LOCATION:Insituto Kreativ\, Rua dos Bandeirantes\, 405 - Cambuí\, Campinas\, São Paulo\, 13024011\, Brasil
CATEGORIES:Literatura
ORGANIZER;CN="Insituto Kreativ":MAILTO:kreativ@kreativ.com.br
GEO:-22.8923332;-47.0515171
X-APPLE-STRUCTURED-LOCATION;VALUE=URI;X-ADDRESS=Insituto Kreativ Rua dos Bandeirantes 405 - Cambuí Campinas São Paulo 13024011 Brasil;X-APPLE-RADIUS=500;X-TITLE=Rua dos Bandeirantes\, 405 - Cambuí:geo:-47.0515171,-22.8923332
END:VEVENT
BEGIN:VEVENT
DTSTART;TZID=America/Sao_Paulo:20250928T090000
DTEND;TZID=America/Sao_Paulo:20250928T160000
DTSTAMP:20260425T093606
CREATED:20250505T113522Z
LAST-MODIFIED:20250505T113522Z
UID:10002026-1759050000-1759075200@semanadalinguaalema.com.br
SUMMARY:Spiel-Stationen im Deutschunterricht
DESCRIPTION:Nas aulas de alemão regulares do Colégio de Aplicação/UFSC (do 6º ano Ensino Fundamental ao 3º ano Ensino Médio)\, durante a Semana da Língua Alemã\, ofereceremos aos nossos alunos diversos “Spiel-Stationen” (estações com jogos). Cada “Station” envolverá os alunos (em grupinhos) em um tipo de jogo (físico ou virtual) que terá seu propósito de aprendizagem com a língua alemã.
URL:https://semanadalinguaalema.com.br/evento/spiel-stationen-im-deutschunterricht/2025-09-28/
LOCATION:Colégio de Aplicação UFSC\, R. Eng. Agronômico Andrei Cristian Ferreira - Trindade\, Florianópolis\, Santa Catarina\, 88040-900\, Brasil
CATEGORIES:Educação
ORGANIZER;CN="C%C3%A1ssia Sigle":MAILTO:sigle.cassia@ufsc.br
GEO:-27.6017725;-48.5216109
X-APPLE-STRUCTURED-LOCATION;VALUE=URI;X-ADDRESS=Colégio de Aplicação UFSC R. Eng. Agronômico Andrei Cristian Ferreira - Trindade Florianópolis Santa Catarina 88040-900 Brasil;X-APPLE-RADIUS=500;X-TITLE=R. Eng. Agronômico Andrei Cristian Ferreira - Trindade:geo:-48.5216109,-27.6017725
END:VEVENT
BEGIN:VEVENT
DTSTART;VALUE=DATE:20250929
DTEND;VALUE=DATE:20251014
DTSTAMP:20260425T093606
CREATED:20250520T143719Z
LAST-MODIFIED:20250520T143719Z
UID:10004193-1759104000-1760399999@semanadalinguaalema.com.br
SUMMARY:DOAÇĀO DE LIVROS
DESCRIPTION:Romances\, biografias\, policiais e muito mais.
URL:https://semanadalinguaalema.com.br/evento/doacao-de-livros/2025-09-29/
LOCATION:Insituto Kreativ\, Rua dos Bandeirantes\, 405 - Cambuí\, Campinas\, São Paulo\, 13024011\, Brasil
CATEGORIES:Literatura
ORGANIZER;CN="Insituto Kreativ":MAILTO:kreativ@kreativ.com.br
GEO:-22.8923332;-47.0515171
X-APPLE-STRUCTURED-LOCATION;VALUE=URI;X-ADDRESS=Insituto Kreativ Rua dos Bandeirantes 405 - Cambuí Campinas São Paulo 13024011 Brasil;X-APPLE-RADIUS=500;X-TITLE=Rua dos Bandeirantes\, 405 - Cambuí:geo:-47.0515171,-22.8923332
END:VEVENT
BEGIN:VEVENT
DTSTART;VALUE=DATE:20250930
DTEND;VALUE=DATE:20251015
DTSTAMP:20260425T093606
CREATED:20250520T143719Z
LAST-MODIFIED:20250520T143719Z
UID:10004194-1759190400-1760486399@semanadalinguaalema.com.br
SUMMARY:DOAÇĀO DE LIVROS
DESCRIPTION:Romances\, biografias\, policiais e muito mais.
URL:https://semanadalinguaalema.com.br/evento/doacao-de-livros/2025-09-30/
LOCATION:Insituto Kreativ\, Rua dos Bandeirantes\, 405 - Cambuí\, Campinas\, São Paulo\, 13024011\, Brasil
CATEGORIES:Literatura
ORGANIZER;CN="Insituto Kreativ":MAILTO:kreativ@kreativ.com.br
GEO:-22.8923332;-47.0515171
X-APPLE-STRUCTURED-LOCATION;VALUE=URI;X-ADDRESS=Insituto Kreativ Rua dos Bandeirantes 405 - Cambuí Campinas São Paulo 13024011 Brasil;X-APPLE-RADIUS=500;X-TITLE=Rua dos Bandeirantes\, 405 - Cambuí:geo:-47.0515171,-22.8923332
END:VEVENT
BEGIN:VEVENT
DTSTART;VALUE=DATE:20251001
DTEND;VALUE=DATE:20251016
DTSTAMP:20260425T093606
CREATED:20250520T143719Z
LAST-MODIFIED:20250520T143719Z
UID:10004195-1759276800-1760572799@semanadalinguaalema.com.br
SUMMARY:DOAÇĀO DE LIVROS
DESCRIPTION:Romances\, biografias\, policiais e muito mais.
URL:https://semanadalinguaalema.com.br/evento/doacao-de-livros/2025-10-01/
LOCATION:Insituto Kreativ\, Rua dos Bandeirantes\, 405 - Cambuí\, Campinas\, São Paulo\, 13024011\, Brasil
CATEGORIES:Literatura
ORGANIZER;CN="Insituto Kreativ":MAILTO:kreativ@kreativ.com.br
GEO:-22.8923332;-47.0515171
X-APPLE-STRUCTURED-LOCATION;VALUE=URI;X-ADDRESS=Insituto Kreativ Rua dos Bandeirantes 405 - Cambuí Campinas São Paulo 13024011 Brasil;X-APPLE-RADIUS=500;X-TITLE=Rua dos Bandeirantes\, 405 - Cambuí:geo:-47.0515171,-22.8923332
END:VEVENT
BEGIN:VEVENT
DTSTART;VALUE=DATE:20251002
DTEND;VALUE=DATE:20251017
DTSTAMP:20260425T093606
CREATED:20250520T143719Z
LAST-MODIFIED:20250520T143719Z
UID:10004196-1759363200-1760659199@semanadalinguaalema.com.br
SUMMARY:DOAÇĀO DE LIVROS
DESCRIPTION:Romances\, biografias\, policiais e muito mais.
URL:https://semanadalinguaalema.com.br/evento/doacao-de-livros/2025-10-02/
LOCATION:Insituto Kreativ\, Rua dos Bandeirantes\, 405 - Cambuí\, Campinas\, São Paulo\, 13024011\, Brasil
CATEGORIES:Literatura
ORGANIZER;CN="Insituto Kreativ":MAILTO:kreativ@kreativ.com.br
GEO:-22.8923332;-47.0515171
X-APPLE-STRUCTURED-LOCATION;VALUE=URI;X-ADDRESS=Insituto Kreativ Rua dos Bandeirantes 405 - Cambuí Campinas São Paulo 13024011 Brasil;X-APPLE-RADIUS=500;X-TITLE=Rua dos Bandeirantes\, 405 - Cambuí:geo:-47.0515171,-22.8923332
END:VEVENT
BEGIN:VEVENT
DTSTART;TZID=America/Sao_Paulo:20251002T090000
DTEND;TZID=America/Sao_Paulo:20251002T160000
DTSTAMP:20260425T093606
CREATED:20250505T113522Z
LAST-MODIFIED:20250505T113522Z
UID:10002027-1759395600-1759420800@semanadalinguaalema.com.br
SUMMARY:Spiel-Stationen im Deutschunterricht
DESCRIPTION:Nas aulas de alemão regulares do Colégio de Aplicação/UFSC (do 6º ano Ensino Fundamental ao 3º ano Ensino Médio)\, durante a Semana da Língua Alemã\, ofereceremos aos nossos alunos diversos “Spiel-Stationen” (estações com jogos). Cada “Station” envolverá os alunos (em grupinhos) em um tipo de jogo (físico ou virtual) que terá seu propósito de aprendizagem com a língua alemã.
URL:https://semanadalinguaalema.com.br/evento/spiel-stationen-im-deutschunterricht/2025-10-02/
LOCATION:Colégio de Aplicação UFSC\, R. Eng. Agronômico Andrei Cristian Ferreira - Trindade\, Florianópolis\, Santa Catarina\, 88040-900\, Brasil
CATEGORIES:Educação
ORGANIZER;CN="C%C3%A1ssia Sigle":MAILTO:sigle.cassia@ufsc.br
GEO:-27.6017725;-48.5216109
X-APPLE-STRUCTURED-LOCATION;VALUE=URI;X-ADDRESS=Colégio de Aplicação UFSC R. Eng. Agronômico Andrei Cristian Ferreira - Trindade Florianópolis Santa Catarina 88040-900 Brasil;X-APPLE-RADIUS=500;X-TITLE=R. Eng. Agronômico Andrei Cristian Ferreira - Trindade:geo:-48.5216109,-27.6017725
END:VEVENT
END:VCALENDAR