BEGIN:VCALENDAR
VERSION:2.0
PRODID:-//Semana da Língua Alemã - ECPv6.4.0.1//NONSGML v1.0//EN
CALSCALE:GREGORIAN
METHOD:PUBLISH
X-WR-CALNAME:Semana da Língua Alemã
X-ORIGINAL-URL:https://semanadalinguaalema.com.br
X-WR-CALDESC:Eventos para Semana da Língua Alemã
REFRESH-INTERVAL;VALUE=DURATION:PT1H
X-Robots-Tag:noindex
X-PUBLISHED-TTL:PT1H
BEGIN:VTIMEZONE
TZID:America/Sao_Paulo
BEGIN:STANDARD
TZOFFSETFROM:-0300
TZOFFSETTO:-0300
TZNAME:-03
DTSTART:20250101T000000
END:STANDARD
END:VTIMEZONE
BEGIN:VEVENT
DTSTART;VALUE=DATE:20250818
DTEND;VALUE=DATE:20250902
DTSTAMP:20260424T074535
CREATED:20250520T143719Z
LAST-MODIFIED:20250520T143719Z
UID:10004151-1755475200-1756771199@semanadalinguaalema.com.br
SUMMARY:DOAÇĀO DE LIVROS
DESCRIPTION:Romances\, biografias\, policiais e muito mais.
URL:https://semanadalinguaalema.com.br/evento/doacao-de-livros/2025-08-18/
LOCATION:Insituto Kreativ\, Rua dos Bandeirantes\, 405 - Cambuí\, Campinas\, São Paulo\, 13024011\, Brasil
CATEGORIES:Literatura
ORGANIZER;CN="Insituto Kreativ":MAILTO:kreativ@kreativ.com.br
GEO:-22.8923332;-47.0515171
X-APPLE-STRUCTURED-LOCATION;VALUE=URI;X-ADDRESS=Insituto Kreativ Rua dos Bandeirantes 405 - Cambuí Campinas São Paulo 13024011 Brasil;X-APPLE-RADIUS=500;X-TITLE=Rua dos Bandeirantes\, 405 - Cambuí:geo:-47.0515171,-22.8923332
END:VEVENT
BEGIN:VEVENT
DTSTART;VALUE=DATE:20250819
DTEND;VALUE=DATE:20250903
DTSTAMP:20260424T074535
CREATED:20250520T143719Z
LAST-MODIFIED:20250520T143719Z
UID:10004152-1755561600-1756857599@semanadalinguaalema.com.br
SUMMARY:DOAÇĀO DE LIVROS
DESCRIPTION:Romances\, biografias\, policiais e muito mais.
URL:https://semanadalinguaalema.com.br/evento/doacao-de-livros/2025-08-19/
LOCATION:Insituto Kreativ\, Rua dos Bandeirantes\, 405 - Cambuí\, Campinas\, São Paulo\, 13024011\, Brasil
CATEGORIES:Literatura
ORGANIZER;CN="Insituto Kreativ":MAILTO:kreativ@kreativ.com.br
GEO:-22.8923332;-47.0515171
X-APPLE-STRUCTURED-LOCATION;VALUE=URI;X-ADDRESS=Insituto Kreativ Rua dos Bandeirantes 405 - Cambuí Campinas São Paulo 13024011 Brasil;X-APPLE-RADIUS=500;X-TITLE=Rua dos Bandeirantes\, 405 - Cambuí:geo:-47.0515171,-22.8923332
END:VEVENT
BEGIN:VEVENT
DTSTART;VALUE=DATE:20250820
DTEND;VALUE=DATE:20250904
DTSTAMP:20260424T074535
CREATED:20250520T143719Z
LAST-MODIFIED:20250520T143719Z
UID:10004153-1755648000-1756943999@semanadalinguaalema.com.br
SUMMARY:DOAÇĀO DE LIVROS
DESCRIPTION:Romances\, biografias\, policiais e muito mais.
URL:https://semanadalinguaalema.com.br/evento/doacao-de-livros/2025-08-20/
LOCATION:Insituto Kreativ\, Rua dos Bandeirantes\, 405 - Cambuí\, Campinas\, São Paulo\, 13024011\, Brasil
CATEGORIES:Literatura
ORGANIZER;CN="Insituto Kreativ":MAILTO:kreativ@kreativ.com.br
GEO:-22.8923332;-47.0515171
X-APPLE-STRUCTURED-LOCATION;VALUE=URI;X-ADDRESS=Insituto Kreativ Rua dos Bandeirantes 405 - Cambuí Campinas São Paulo 13024011 Brasil;X-APPLE-RADIUS=500;X-TITLE=Rua dos Bandeirantes\, 405 - Cambuí:geo:-47.0515171,-22.8923332
END:VEVENT
BEGIN:VEVENT
DTSTART;VALUE=DATE:20250821
DTEND;VALUE=DATE:20250905
DTSTAMP:20260424T074535
CREATED:20250520T143719Z
LAST-MODIFIED:20250520T143719Z
UID:10004154-1755734400-1757030399@semanadalinguaalema.com.br
SUMMARY:DOAÇĀO DE LIVROS
DESCRIPTION:Romances\, biografias\, policiais e muito mais.
URL:https://semanadalinguaalema.com.br/evento/doacao-de-livros/2025-08-21/
LOCATION:Insituto Kreativ\, Rua dos Bandeirantes\, 405 - Cambuí\, Campinas\, São Paulo\, 13024011\, Brasil
CATEGORIES:Literatura
ORGANIZER;CN="Insituto Kreativ":MAILTO:kreativ@kreativ.com.br
GEO:-22.8923332;-47.0515171
X-APPLE-STRUCTURED-LOCATION;VALUE=URI;X-ADDRESS=Insituto Kreativ Rua dos Bandeirantes 405 - Cambuí Campinas São Paulo 13024011 Brasil;X-APPLE-RADIUS=500;X-TITLE=Rua dos Bandeirantes\, 405 - Cambuí:geo:-47.0515171,-22.8923332
END:VEVENT
BEGIN:VEVENT
DTSTART;VALUE=DATE:20250822
DTEND;VALUE=DATE:20250906
DTSTAMP:20260424T074535
CREATED:20250520T143719Z
LAST-MODIFIED:20250520T143719Z
UID:10004155-1755820800-1757116799@semanadalinguaalema.com.br
SUMMARY:DOAÇĀO DE LIVROS
DESCRIPTION:Romances\, biografias\, policiais e muito mais.
URL:https://semanadalinguaalema.com.br/evento/doacao-de-livros/2025-08-22/
LOCATION:Insituto Kreativ\, Rua dos Bandeirantes\, 405 - Cambuí\, Campinas\, São Paulo\, 13024011\, Brasil
CATEGORIES:Literatura
ORGANIZER;CN="Insituto Kreativ":MAILTO:kreativ@kreativ.com.br
GEO:-22.8923332;-47.0515171
X-APPLE-STRUCTURED-LOCATION;VALUE=URI;X-ADDRESS=Insituto Kreativ Rua dos Bandeirantes 405 - Cambuí Campinas São Paulo 13024011 Brasil;X-APPLE-RADIUS=500;X-TITLE=Rua dos Bandeirantes\, 405 - Cambuí:geo:-47.0515171,-22.8923332
END:VEVENT
BEGIN:VEVENT
DTSTART;VALUE=DATE:20250823
DTEND;VALUE=DATE:20250907
DTSTAMP:20260424T074535
CREATED:20250520T143719Z
LAST-MODIFIED:20250520T143719Z
UID:10004156-1755907200-1757203199@semanadalinguaalema.com.br
SUMMARY:DOAÇĀO DE LIVROS
DESCRIPTION:Romances\, biografias\, policiais e muito mais.
URL:https://semanadalinguaalema.com.br/evento/doacao-de-livros/2025-08-23/
LOCATION:Insituto Kreativ\, Rua dos Bandeirantes\, 405 - Cambuí\, Campinas\, São Paulo\, 13024011\, Brasil
CATEGORIES:Literatura
ORGANIZER;CN="Insituto Kreativ":MAILTO:kreativ@kreativ.com.br
GEO:-22.8923332;-47.0515171
X-APPLE-STRUCTURED-LOCATION;VALUE=URI;X-ADDRESS=Insituto Kreativ Rua dos Bandeirantes 405 - Cambuí Campinas São Paulo 13024011 Brasil;X-APPLE-RADIUS=500;X-TITLE=Rua dos Bandeirantes\, 405 - Cambuí:geo:-47.0515171,-22.8923332
END:VEVENT
BEGIN:VEVENT
DTSTART;VALUE=DATE:20250824
DTEND;VALUE=DATE:20250908
DTSTAMP:20260424T074535
CREATED:20250520T143719Z
LAST-MODIFIED:20250520T143719Z
UID:10004157-1755993600-1757289599@semanadalinguaalema.com.br
SUMMARY:DOAÇĀO DE LIVROS
DESCRIPTION:Romances\, biografias\, policiais e muito mais.
URL:https://semanadalinguaalema.com.br/evento/doacao-de-livros/2025-08-24/
LOCATION:Insituto Kreativ\, Rua dos Bandeirantes\, 405 - Cambuí\, Campinas\, São Paulo\, 13024011\, Brasil
CATEGORIES:Literatura
ORGANIZER;CN="Insituto Kreativ":MAILTO:kreativ@kreativ.com.br
GEO:-22.8923332;-47.0515171
X-APPLE-STRUCTURED-LOCATION;VALUE=URI;X-ADDRESS=Insituto Kreativ Rua dos Bandeirantes 405 - Cambuí Campinas São Paulo 13024011 Brasil;X-APPLE-RADIUS=500;X-TITLE=Rua dos Bandeirantes\, 405 - Cambuí:geo:-47.0515171,-22.8923332
END:VEVENT
BEGIN:VEVENT
DTSTART;VALUE=DATE:20250825
DTEND;VALUE=DATE:20250909
DTSTAMP:20260424T074535
CREATED:20250520T143719Z
LAST-MODIFIED:20250520T143719Z
UID:10004158-1756080000-1757375999@semanadalinguaalema.com.br
SUMMARY:DOAÇĀO DE LIVROS
DESCRIPTION:Romances\, biografias\, policiais e muito mais.
URL:https://semanadalinguaalema.com.br/evento/doacao-de-livros/2025-08-25/
LOCATION:Insituto Kreativ\, Rua dos Bandeirantes\, 405 - Cambuí\, Campinas\, São Paulo\, 13024011\, Brasil
CATEGORIES:Literatura
ORGANIZER;CN="Insituto Kreativ":MAILTO:kreativ@kreativ.com.br
GEO:-22.8923332;-47.0515171
X-APPLE-STRUCTURED-LOCATION;VALUE=URI;X-ADDRESS=Insituto Kreativ Rua dos Bandeirantes 405 - Cambuí Campinas São Paulo 13024011 Brasil;X-APPLE-RADIUS=500;X-TITLE=Rua dos Bandeirantes\, 405 - Cambuí:geo:-47.0515171,-22.8923332
END:VEVENT
BEGIN:VEVENT
DTSTART;VALUE=DATE:20250826
DTEND;VALUE=DATE:20250910
DTSTAMP:20260424T074535
CREATED:20250520T143719Z
LAST-MODIFIED:20250520T143719Z
UID:10004159-1756166400-1757462399@semanadalinguaalema.com.br
SUMMARY:DOAÇĀO DE LIVROS
DESCRIPTION:Romances\, biografias\, policiais e muito mais.
URL:https://semanadalinguaalema.com.br/evento/doacao-de-livros/2025-08-26/
LOCATION:Insituto Kreativ\, Rua dos Bandeirantes\, 405 - Cambuí\, Campinas\, São Paulo\, 13024011\, Brasil
CATEGORIES:Literatura
ORGANIZER;CN="Insituto Kreativ":MAILTO:kreativ@kreativ.com.br
GEO:-22.8923332;-47.0515171
X-APPLE-STRUCTURED-LOCATION;VALUE=URI;X-ADDRESS=Insituto Kreativ Rua dos Bandeirantes 405 - Cambuí Campinas São Paulo 13024011 Brasil;X-APPLE-RADIUS=500;X-TITLE=Rua dos Bandeirantes\, 405 - Cambuí:geo:-47.0515171,-22.8923332
END:VEVENT
BEGIN:VEVENT
DTSTART;VALUE=DATE:20250827
DTEND;VALUE=DATE:20250911
DTSTAMP:20260424T074535
CREATED:20250520T143719Z
LAST-MODIFIED:20250520T143719Z
UID:10004160-1756252800-1757548799@semanadalinguaalema.com.br
SUMMARY:DOAÇĀO DE LIVROS
DESCRIPTION:Romances\, biografias\, policiais e muito mais.
URL:https://semanadalinguaalema.com.br/evento/doacao-de-livros/2025-08-27/
LOCATION:Insituto Kreativ\, Rua dos Bandeirantes\, 405 - Cambuí\, Campinas\, São Paulo\, 13024011\, Brasil
CATEGORIES:Literatura
ORGANIZER;CN="Insituto Kreativ":MAILTO:kreativ@kreativ.com.br
GEO:-22.8923332;-47.0515171
X-APPLE-STRUCTURED-LOCATION;VALUE=URI;X-ADDRESS=Insituto Kreativ Rua dos Bandeirantes 405 - Cambuí Campinas São Paulo 13024011 Brasil;X-APPLE-RADIUS=500;X-TITLE=Rua dos Bandeirantes\, 405 - Cambuí:geo:-47.0515171,-22.8923332
END:VEVENT
BEGIN:VEVENT
DTSTART;VALUE=DATE:20250828
DTEND;VALUE=DATE:20250912
DTSTAMP:20260424T074535
CREATED:20250520T143719Z
LAST-MODIFIED:20250520T143719Z
UID:10004161-1756339200-1757635199@semanadalinguaalema.com.br
SUMMARY:DOAÇĀO DE LIVROS
DESCRIPTION:Romances\, biografias\, policiais e muito mais.
URL:https://semanadalinguaalema.com.br/evento/doacao-de-livros/2025-08-28/
LOCATION:Insituto Kreativ\, Rua dos Bandeirantes\, 405 - Cambuí\, Campinas\, São Paulo\, 13024011\, Brasil
CATEGORIES:Literatura
ORGANIZER;CN="Insituto Kreativ":MAILTO:kreativ@kreativ.com.br
GEO:-22.8923332;-47.0515171
X-APPLE-STRUCTURED-LOCATION;VALUE=URI;X-ADDRESS=Insituto Kreativ Rua dos Bandeirantes 405 - Cambuí Campinas São Paulo 13024011 Brasil;X-APPLE-RADIUS=500;X-TITLE=Rua dos Bandeirantes\, 405 - Cambuí:geo:-47.0515171,-22.8923332
END:VEVENT
BEGIN:VEVENT
DTSTART;VALUE=DATE:20250829
DTEND;VALUE=DATE:20250913
DTSTAMP:20260424T074535
CREATED:20250520T143719Z
LAST-MODIFIED:20250520T143719Z
UID:10004162-1756425600-1757721599@semanadalinguaalema.com.br
SUMMARY:DOAÇĀO DE LIVROS
DESCRIPTION:Romances\, biografias\, policiais e muito mais.
URL:https://semanadalinguaalema.com.br/evento/doacao-de-livros/2025-08-29/
LOCATION:Insituto Kreativ\, Rua dos Bandeirantes\, 405 - Cambuí\, Campinas\, São Paulo\, 13024011\, Brasil
CATEGORIES:Literatura
ORGANIZER;CN="Insituto Kreativ":MAILTO:kreativ@kreativ.com.br
GEO:-22.8923332;-47.0515171
X-APPLE-STRUCTURED-LOCATION;VALUE=URI;X-ADDRESS=Insituto Kreativ Rua dos Bandeirantes 405 - Cambuí Campinas São Paulo 13024011 Brasil;X-APPLE-RADIUS=500;X-TITLE=Rua dos Bandeirantes\, 405 - Cambuí:geo:-47.0515171,-22.8923332
END:VEVENT
BEGIN:VEVENT
DTSTART;VALUE=DATE:20250830
DTEND;VALUE=DATE:20250914
DTSTAMP:20260424T074535
CREATED:20250520T143719Z
LAST-MODIFIED:20250520T143719Z
UID:10004163-1756512000-1757807999@semanadalinguaalema.com.br
SUMMARY:DOAÇĀO DE LIVROS
DESCRIPTION:Romances\, biografias\, policiais e muito mais.
URL:https://semanadalinguaalema.com.br/evento/doacao-de-livros/2025-08-30/
LOCATION:Insituto Kreativ\, Rua dos Bandeirantes\, 405 - Cambuí\, Campinas\, São Paulo\, 13024011\, Brasil
CATEGORIES:Literatura
ORGANIZER;CN="Insituto Kreativ":MAILTO:kreativ@kreativ.com.br
GEO:-22.8923332;-47.0515171
X-APPLE-STRUCTURED-LOCATION;VALUE=URI;X-ADDRESS=Insituto Kreativ Rua dos Bandeirantes 405 - Cambuí Campinas São Paulo 13024011 Brasil;X-APPLE-RADIUS=500;X-TITLE=Rua dos Bandeirantes\, 405 - Cambuí:geo:-47.0515171,-22.8923332
END:VEVENT
BEGIN:VEVENT
DTSTART;VALUE=DATE:20250831
DTEND;VALUE=DATE:20250915
DTSTAMP:20260424T074535
CREATED:20250520T143719Z
LAST-MODIFIED:20250520T143719Z
UID:10004164-1756598400-1757894399@semanadalinguaalema.com.br
SUMMARY:DOAÇĀO DE LIVROS
DESCRIPTION:Romances\, biografias\, policiais e muito mais.
URL:https://semanadalinguaalema.com.br/evento/doacao-de-livros/2025-08-31/
LOCATION:Insituto Kreativ\, Rua dos Bandeirantes\, 405 - Cambuí\, Campinas\, São Paulo\, 13024011\, Brasil
CATEGORIES:Literatura
ORGANIZER;CN="Insituto Kreativ":MAILTO:kreativ@kreativ.com.br
GEO:-22.8923332;-47.0515171
X-APPLE-STRUCTURED-LOCATION;VALUE=URI;X-ADDRESS=Insituto Kreativ Rua dos Bandeirantes 405 - Cambuí Campinas São Paulo 13024011 Brasil;X-APPLE-RADIUS=500;X-TITLE=Rua dos Bandeirantes\, 405 - Cambuí:geo:-47.0515171,-22.8923332
END:VEVENT
BEGIN:VEVENT
DTSTART;VALUE=DATE:20250901
DTEND;VALUE=DATE:20250916
DTSTAMP:20260424T074535
CREATED:20250520T143719Z
LAST-MODIFIED:20250520T143719Z
UID:10004165-1756684800-1757980799@semanadalinguaalema.com.br
SUMMARY:DOAÇĀO DE LIVROS
DESCRIPTION:Romances\, biografias\, policiais e muito mais.
URL:https://semanadalinguaalema.com.br/evento/doacao-de-livros/2025-09-01/
LOCATION:Insituto Kreativ\, Rua dos Bandeirantes\, 405 - Cambuí\, Campinas\, São Paulo\, 13024011\, Brasil
CATEGORIES:Literatura
ORGANIZER;CN="Insituto Kreativ":MAILTO:kreativ@kreativ.com.br
GEO:-22.8923332;-47.0515171
X-APPLE-STRUCTURED-LOCATION;VALUE=URI;X-ADDRESS=Insituto Kreativ Rua dos Bandeirantes 405 - Cambuí Campinas São Paulo 13024011 Brasil;X-APPLE-RADIUS=500;X-TITLE=Rua dos Bandeirantes\, 405 - Cambuí:geo:-47.0515171,-22.8923332
END:VEVENT
BEGIN:VEVENT
DTSTART;VALUE=DATE:20250902
DTEND;VALUE=DATE:20250917
DTSTAMP:20260424T074535
CREATED:20250520T143719Z
LAST-MODIFIED:20250520T143719Z
UID:10004166-1756771200-1758067199@semanadalinguaalema.com.br
SUMMARY:DOAÇĀO DE LIVROS
DESCRIPTION:Romances\, biografias\, policiais e muito mais.
URL:https://semanadalinguaalema.com.br/evento/doacao-de-livros/2025-09-02/
LOCATION:Insituto Kreativ\, Rua dos Bandeirantes\, 405 - Cambuí\, Campinas\, São Paulo\, 13024011\, Brasil
CATEGORIES:Literatura
ORGANIZER;CN="Insituto Kreativ":MAILTO:kreativ@kreativ.com.br
GEO:-22.8923332;-47.0515171
X-APPLE-STRUCTURED-LOCATION;VALUE=URI;X-ADDRESS=Insituto Kreativ Rua dos Bandeirantes 405 - Cambuí Campinas São Paulo 13024011 Brasil;X-APPLE-RADIUS=500;X-TITLE=Rua dos Bandeirantes\, 405 - Cambuí:geo:-47.0515171,-22.8923332
END:VEVENT
BEGIN:VEVENT
DTSTART;VALUE=DATE:20250903
DTEND;VALUE=DATE:20250918
DTSTAMP:20260424T074535
CREATED:20250520T143719Z
LAST-MODIFIED:20250520T143719Z
UID:10004167-1756857600-1758153599@semanadalinguaalema.com.br
SUMMARY:DOAÇĀO DE LIVROS
DESCRIPTION:Romances\, biografias\, policiais e muito mais.
URL:https://semanadalinguaalema.com.br/evento/doacao-de-livros/2025-09-03/
LOCATION:Insituto Kreativ\, Rua dos Bandeirantes\, 405 - Cambuí\, Campinas\, São Paulo\, 13024011\, Brasil
CATEGORIES:Literatura
ORGANIZER;CN="Insituto Kreativ":MAILTO:kreativ@kreativ.com.br
GEO:-22.8923332;-47.0515171
X-APPLE-STRUCTURED-LOCATION;VALUE=URI;X-ADDRESS=Insituto Kreativ Rua dos Bandeirantes 405 - Cambuí Campinas São Paulo 13024011 Brasil;X-APPLE-RADIUS=500;X-TITLE=Rua dos Bandeirantes\, 405 - Cambuí:geo:-47.0515171,-22.8923332
END:VEVENT
BEGIN:VEVENT
DTSTART;VALUE=DATE:20250904
DTEND;VALUE=DATE:20250919
DTSTAMP:20260424T074535
CREATED:20250520T143719Z
LAST-MODIFIED:20250520T143719Z
UID:10004168-1756944000-1758239999@semanadalinguaalema.com.br
SUMMARY:DOAÇĀO DE LIVROS
DESCRIPTION:Romances\, biografias\, policiais e muito mais.
URL:https://semanadalinguaalema.com.br/evento/doacao-de-livros/2025-09-04/
LOCATION:Insituto Kreativ\, Rua dos Bandeirantes\, 405 - Cambuí\, Campinas\, São Paulo\, 13024011\, Brasil
CATEGORIES:Literatura
ORGANIZER;CN="Insituto Kreativ":MAILTO:kreativ@kreativ.com.br
GEO:-22.8923332;-47.0515171
X-APPLE-STRUCTURED-LOCATION;VALUE=URI;X-ADDRESS=Insituto Kreativ Rua dos Bandeirantes 405 - Cambuí Campinas São Paulo 13024011 Brasil;X-APPLE-RADIUS=500;X-TITLE=Rua dos Bandeirantes\, 405 - Cambuí:geo:-47.0515171,-22.8923332
END:VEVENT
BEGIN:VEVENT
DTSTART;TZID=America/Sao_Paulo:20250904T090000
DTEND;TZID=America/Sao_Paulo:20250904T160000
DTSTAMP:20260424T074535
CREATED:20250505T113522Z
LAST-MODIFIED:20250505T113522Z
UID:10002020-1756976400-1757001600@semanadalinguaalema.com.br
SUMMARY:Spiel-Stationen im Deutschunterricht
DESCRIPTION:Nas aulas de alemão regulares do Colégio de Aplicação/UFSC (do 6º ano Ensino Fundamental ao 3º ano Ensino Médio)\, durante a Semana da Língua Alemã\, ofereceremos aos nossos alunos diversos “Spiel-Stationen” (estações com jogos). Cada “Station” envolverá os alunos (em grupinhos) em um tipo de jogo (físico ou virtual) que terá seu propósito de aprendizagem com a língua alemã.
URL:https://semanadalinguaalema.com.br/evento/spiel-stationen-im-deutschunterricht/2025-09-04/
LOCATION:Colégio de Aplicação UFSC\, R. Eng. Agronômico Andrei Cristian Ferreira - Trindade\, Florianópolis\, Santa Catarina\, 88040-900\, Brasil
CATEGORIES:Educação
ORGANIZER;CN="C%C3%A1ssia Sigle":MAILTO:sigle.cassia@ufsc.br
GEO:-27.6017725;-48.5216109
X-APPLE-STRUCTURED-LOCATION;VALUE=URI;X-ADDRESS=Colégio de Aplicação UFSC R. Eng. Agronômico Andrei Cristian Ferreira - Trindade Florianópolis Santa Catarina 88040-900 Brasil;X-APPLE-RADIUS=500;X-TITLE=R. Eng. Agronômico Andrei Cristian Ferreira - Trindade:geo:-48.5216109,-27.6017725
END:VEVENT
BEGIN:VEVENT
DTSTART;VALUE=DATE:20250905
DTEND;VALUE=DATE:20250920
DTSTAMP:20260424T074535
CREATED:20250520T143719Z
LAST-MODIFIED:20250520T143719Z
UID:10004169-1757030400-1758326399@semanadalinguaalema.com.br
SUMMARY:DOAÇĀO DE LIVROS
DESCRIPTION:Romances\, biografias\, policiais e muito mais.
URL:https://semanadalinguaalema.com.br/evento/doacao-de-livros/2025-09-05/
LOCATION:Insituto Kreativ\, Rua dos Bandeirantes\, 405 - Cambuí\, Campinas\, São Paulo\, 13024011\, Brasil
CATEGORIES:Literatura
ORGANIZER;CN="Insituto Kreativ":MAILTO:kreativ@kreativ.com.br
GEO:-22.8923332;-47.0515171
X-APPLE-STRUCTURED-LOCATION;VALUE=URI;X-ADDRESS=Insituto Kreativ Rua dos Bandeirantes 405 - Cambuí Campinas São Paulo 13024011 Brasil;X-APPLE-RADIUS=500;X-TITLE=Rua dos Bandeirantes\, 405 - Cambuí:geo:-47.0515171,-22.8923332
END:VEVENT
BEGIN:VEVENT
DTSTART;VALUE=DATE:20250906
DTEND;VALUE=DATE:20250921
DTSTAMP:20260424T074535
CREATED:20250520T143719Z
LAST-MODIFIED:20250520T143719Z
UID:10004170-1757116800-1758412799@semanadalinguaalema.com.br
SUMMARY:DOAÇĀO DE LIVROS
DESCRIPTION:Romances\, biografias\, policiais e muito mais.
URL:https://semanadalinguaalema.com.br/evento/doacao-de-livros/2025-09-06/
LOCATION:Insituto Kreativ\, Rua dos Bandeirantes\, 405 - Cambuí\, Campinas\, São Paulo\, 13024011\, Brasil
CATEGORIES:Literatura
ORGANIZER;CN="Insituto Kreativ":MAILTO:kreativ@kreativ.com.br
GEO:-22.8923332;-47.0515171
X-APPLE-STRUCTURED-LOCATION;VALUE=URI;X-ADDRESS=Insituto Kreativ Rua dos Bandeirantes 405 - Cambuí Campinas São Paulo 13024011 Brasil;X-APPLE-RADIUS=500;X-TITLE=Rua dos Bandeirantes\, 405 - Cambuí:geo:-47.0515171,-22.8923332
END:VEVENT
BEGIN:VEVENT
DTSTART;TZID=America/Sao_Paulo:20250906T100000
DTEND;TZID=America/Sao_Paulo:20250906T114500
DTSTAMP:20260424T074535
CREATED:20250610T114219Z
LAST-MODIFIED:20250610T114219Z
UID:10006006-1757152800-1757159100@semanadalinguaalema.com.br
SUMMARY:Deutscher Jugendclub Cultura Alemã Joinville
DESCRIPTION:Você sabia que a Cultura Alemã de Joinville tem um projeto para incentivar a prática do idioma alemão\, específico para crônicas e jovens entre 12 e 18 anos? Trata-se do Jugendclub (ou Clube Juvenil).
URL:https://semanadalinguaalema.com.br/evento/deutscher-jugendclub-cultura-alema-joinville/2025-09-06/
LOCATION:Casa da Memória\, Rua XV de Novembro\, 1000\, Joinville\, Santa Catarina\, 89201-602\, Brasil
CATEGORIES:Educação
ATTACH;FMTTYPE=image/jpeg:https://semanadalinguaalema.com.br/wp-content/uploads/2025/06/IMG_6719-2.jpeg
ORGANIZER;CN="Sociedade Cultural Alem%C3%A3 de Joinville":MAILTO:dkvj@terra.com.br
GEO:-26.2995529;-48.8517868
X-APPLE-STRUCTURED-LOCATION;VALUE=URI;X-ADDRESS=Casa da Memória Rua XV de Novembro 1000 Joinville Santa Catarina 89201-602 Brasil;X-APPLE-RADIUS=500;X-TITLE=Rua XV de Novembro\, 1000:geo:-48.8517868,-26.2995529
END:VEVENT
BEGIN:VEVENT
DTSTART;VALUE=DATE:20250907
DTEND;VALUE=DATE:20250922
DTSTAMP:20260424T074535
CREATED:20250520T143719Z
LAST-MODIFIED:20250520T143719Z
UID:10004171-1757203200-1758499199@semanadalinguaalema.com.br
SUMMARY:DOAÇĀO DE LIVROS
DESCRIPTION:Romances\, biografias\, policiais e muito mais.
URL:https://semanadalinguaalema.com.br/evento/doacao-de-livros/2025-09-07/
LOCATION:Insituto Kreativ\, Rua dos Bandeirantes\, 405 - Cambuí\, Campinas\, São Paulo\, 13024011\, Brasil
CATEGORIES:Literatura
ORGANIZER;CN="Insituto Kreativ":MAILTO:kreativ@kreativ.com.br
GEO:-22.8923332;-47.0515171
X-APPLE-STRUCTURED-LOCATION;VALUE=URI;X-ADDRESS=Insituto Kreativ Rua dos Bandeirantes 405 - Cambuí Campinas São Paulo 13024011 Brasil;X-APPLE-RADIUS=500;X-TITLE=Rua dos Bandeirantes\, 405 - Cambuí:geo:-47.0515171,-22.8923332
END:VEVENT
BEGIN:VEVENT
DTSTART;VALUE=DATE:20250908
DTEND;VALUE=DATE:20250923
DTSTAMP:20260424T074535
CREATED:20250520T143719Z
LAST-MODIFIED:20250520T143719Z
UID:10004172-1757289600-1758585599@semanadalinguaalema.com.br
SUMMARY:DOAÇĀO DE LIVROS
DESCRIPTION:Romances\, biografias\, policiais e muito mais.
URL:https://semanadalinguaalema.com.br/evento/doacao-de-livros/2025-09-08/
LOCATION:Insituto Kreativ\, Rua dos Bandeirantes\, 405 - Cambuí\, Campinas\, São Paulo\, 13024011\, Brasil
CATEGORIES:Literatura
ORGANIZER;CN="Insituto Kreativ":MAILTO:kreativ@kreativ.com.br
GEO:-22.8923332;-47.0515171
X-APPLE-STRUCTURED-LOCATION;VALUE=URI;X-ADDRESS=Insituto Kreativ Rua dos Bandeirantes 405 - Cambuí Campinas São Paulo 13024011 Brasil;X-APPLE-RADIUS=500;X-TITLE=Rua dos Bandeirantes\, 405 - Cambuí:geo:-47.0515171,-22.8923332
END:VEVENT
BEGIN:VEVENT
DTSTART;TZID=America/Sao_Paulo:20250908T090000
DTEND;TZID=America/Sao_Paulo:20250908T160000
DTSTAMP:20260424T074535
CREATED:20250505T113522Z
LAST-MODIFIED:20250505T113522Z
UID:10002021-1757322000-1757347200@semanadalinguaalema.com.br
SUMMARY:Spiel-Stationen im Deutschunterricht
DESCRIPTION:Nas aulas de alemão regulares do Colégio de Aplicação/UFSC (do 6º ano Ensino Fundamental ao 3º ano Ensino Médio)\, durante a Semana da Língua Alemã\, ofereceremos aos nossos alunos diversos “Spiel-Stationen” (estações com jogos). Cada “Station” envolverá os alunos (em grupinhos) em um tipo de jogo (físico ou virtual) que terá seu propósito de aprendizagem com a língua alemã.
URL:https://semanadalinguaalema.com.br/evento/spiel-stationen-im-deutschunterricht/2025-09-08/
LOCATION:Colégio de Aplicação UFSC\, R. Eng. Agronômico Andrei Cristian Ferreira - Trindade\, Florianópolis\, Santa Catarina\, 88040-900\, Brasil
CATEGORIES:Educação
ORGANIZER;CN="C%C3%A1ssia Sigle":MAILTO:sigle.cassia@ufsc.br
GEO:-27.6017725;-48.5216109
X-APPLE-STRUCTURED-LOCATION;VALUE=URI;X-ADDRESS=Colégio de Aplicação UFSC R. Eng. Agronômico Andrei Cristian Ferreira - Trindade Florianópolis Santa Catarina 88040-900 Brasil;X-APPLE-RADIUS=500;X-TITLE=R. Eng. Agronômico Andrei Cristian Ferreira - Trindade:geo:-48.5216109,-27.6017725
END:VEVENT
BEGIN:VEVENT
DTSTART;VALUE=DATE:20250909
DTEND;VALUE=DATE:20250924
DTSTAMP:20260424T074535
CREATED:20250520T143719Z
LAST-MODIFIED:20250520T143719Z
UID:10004173-1757376000-1758671999@semanadalinguaalema.com.br
SUMMARY:DOAÇĀO DE LIVROS
DESCRIPTION:Romances\, biografias\, policiais e muito mais.
URL:https://semanadalinguaalema.com.br/evento/doacao-de-livros/2025-09-09/
LOCATION:Insituto Kreativ\, Rua dos Bandeirantes\, 405 - Cambuí\, Campinas\, São Paulo\, 13024011\, Brasil
CATEGORIES:Literatura
ORGANIZER;CN="Insituto Kreativ":MAILTO:kreativ@kreativ.com.br
GEO:-22.8923332;-47.0515171
X-APPLE-STRUCTURED-LOCATION;VALUE=URI;X-ADDRESS=Insituto Kreativ Rua dos Bandeirantes 405 - Cambuí Campinas São Paulo 13024011 Brasil;X-APPLE-RADIUS=500;X-TITLE=Rua dos Bandeirantes\, 405 - Cambuí:geo:-47.0515171,-22.8923332
END:VEVENT
BEGIN:VEVENT
DTSTART;VALUE=DATE:20250910
DTEND;VALUE=DATE:20250925
DTSTAMP:20260424T074535
CREATED:20250520T143719Z
LAST-MODIFIED:20250520T143719Z
UID:10004174-1757462400-1758758399@semanadalinguaalema.com.br
SUMMARY:DOAÇĀO DE LIVROS
DESCRIPTION:Romances\, biografias\, policiais e muito mais.
URL:https://semanadalinguaalema.com.br/evento/doacao-de-livros/2025-09-10/
LOCATION:Insituto Kreativ\, Rua dos Bandeirantes\, 405 - Cambuí\, Campinas\, São Paulo\, 13024011\, Brasil
CATEGORIES:Literatura
ORGANIZER;CN="Insituto Kreativ":MAILTO:kreativ@kreativ.com.br
GEO:-22.8923332;-47.0515171
X-APPLE-STRUCTURED-LOCATION;VALUE=URI;X-ADDRESS=Insituto Kreativ Rua dos Bandeirantes 405 - Cambuí Campinas São Paulo 13024011 Brasil;X-APPLE-RADIUS=500;X-TITLE=Rua dos Bandeirantes\, 405 - Cambuí:geo:-47.0515171,-22.8923332
END:VEVENT
BEGIN:VEVENT
DTSTART;VALUE=DATE:20250911
DTEND;VALUE=DATE:20250926
DTSTAMP:20260424T074535
CREATED:20250520T143719Z
LAST-MODIFIED:20250520T143719Z
UID:10004175-1757548800-1758844799@semanadalinguaalema.com.br
SUMMARY:DOAÇĀO DE LIVROS
DESCRIPTION:Romances\, biografias\, policiais e muito mais.
URL:https://semanadalinguaalema.com.br/evento/doacao-de-livros/2025-09-11/
LOCATION:Insituto Kreativ\, Rua dos Bandeirantes\, 405 - Cambuí\, Campinas\, São Paulo\, 13024011\, Brasil
CATEGORIES:Literatura
ORGANIZER;CN="Insituto Kreativ":MAILTO:kreativ@kreativ.com.br
GEO:-22.8923332;-47.0515171
X-APPLE-STRUCTURED-LOCATION;VALUE=URI;X-ADDRESS=Insituto Kreativ Rua dos Bandeirantes 405 - Cambuí Campinas São Paulo 13024011 Brasil;X-APPLE-RADIUS=500;X-TITLE=Rua dos Bandeirantes\, 405 - Cambuí:geo:-47.0515171,-22.8923332
END:VEVENT
BEGIN:VEVENT
DTSTART;VALUE=DATE:20250912
DTEND;VALUE=DATE:20250927
DTSTAMP:20260424T074535
CREATED:20250520T143719Z
LAST-MODIFIED:20250520T143719Z
UID:10004176-1757635200-1758931199@semanadalinguaalema.com.br
SUMMARY:DOAÇĀO DE LIVROS
DESCRIPTION:Romances\, biografias\, policiais e muito mais.
URL:https://semanadalinguaalema.com.br/evento/doacao-de-livros/2025-09-12/
LOCATION:Insituto Kreativ\, Rua dos Bandeirantes\, 405 - Cambuí\, Campinas\, São Paulo\, 13024011\, Brasil
CATEGORIES:Literatura
ORGANIZER;CN="Insituto Kreativ":MAILTO:kreativ@kreativ.com.br
GEO:-22.8923332;-47.0515171
X-APPLE-STRUCTURED-LOCATION;VALUE=URI;X-ADDRESS=Insituto Kreativ Rua dos Bandeirantes 405 - Cambuí Campinas São Paulo 13024011 Brasil;X-APPLE-RADIUS=500;X-TITLE=Rua dos Bandeirantes\, 405 - Cambuí:geo:-47.0515171,-22.8923332
END:VEVENT
BEGIN:VEVENT
DTSTART;TZID=America/Sao_Paulo:20250912T090000
DTEND;TZID=America/Sao_Paulo:20250912T160000
DTSTAMP:20260424T074535
CREATED:20250505T113522Z
LAST-MODIFIED:20250505T113522Z
UID:10002022-1757667600-1757692800@semanadalinguaalema.com.br
SUMMARY:Spiel-Stationen im Deutschunterricht
DESCRIPTION:Nas aulas de alemão regulares do Colégio de Aplicação/UFSC (do 6º ano Ensino Fundamental ao 3º ano Ensino Médio)\, durante a Semana da Língua Alemã\, ofereceremos aos nossos alunos diversos “Spiel-Stationen” (estações com jogos). Cada “Station” envolverá os alunos (em grupinhos) em um tipo de jogo (físico ou virtual) que terá seu propósito de aprendizagem com a língua alemã.
URL:https://semanadalinguaalema.com.br/evento/spiel-stationen-im-deutschunterricht/2025-09-12/
LOCATION:Colégio de Aplicação UFSC\, R. Eng. Agronômico Andrei Cristian Ferreira - Trindade\, Florianópolis\, Santa Catarina\, 88040-900\, Brasil
CATEGORIES:Educação
ORGANIZER;CN="C%C3%A1ssia Sigle":MAILTO:sigle.cassia@ufsc.br
GEO:-27.6017725;-48.5216109
X-APPLE-STRUCTURED-LOCATION;VALUE=URI;X-ADDRESS=Colégio de Aplicação UFSC R. Eng. Agronômico Andrei Cristian Ferreira - Trindade Florianópolis Santa Catarina 88040-900 Brasil;X-APPLE-RADIUS=500;X-TITLE=R. Eng. Agronômico Andrei Cristian Ferreira - Trindade:geo:-48.5216109,-27.6017725
END:VEVENT
END:VCALENDAR