BEGIN:VCALENDAR
VERSION:2.0
PRODID:-//Semana da Língua Alemã - ECPv6.4.0.1//NONSGML v1.0//EN
CALSCALE:GREGORIAN
METHOD:PUBLISH
X-WR-CALNAME:Semana da Língua Alemã
X-ORIGINAL-URL:https://semanadalinguaalema.com.br
X-WR-CALDESC:Eventos para Semana da Língua Alemã
REFRESH-INTERVAL;VALUE=DURATION:PT1H
X-Robots-Tag:noindex
X-PUBLISHED-TTL:PT1H
BEGIN:VTIMEZONE
TZID:America/Sao_Paulo
BEGIN:STANDARD
TZOFFSETFROM:-0300
TZOFFSETTO:-0300
TZNAME:-03
DTSTART:20270101T000000
END:STANDARD
END:VTIMEZONE
BEGIN:VEVENT
DTSTART;VALUE=DATE:20270113
DTEND;VALUE=DATE:20270128
DTSTAMP:20260425T235456
CREATED:20250520T143719Z
LAST-MODIFIED:20250520T143719Z
UID:10004664-1799798400-1801094399@semanadalinguaalema.com.br
SUMMARY:DOAÇĀO DE LIVROS
DESCRIPTION:Romances\, biografias\, policiais e muito mais.
URL:https://semanadalinguaalema.com.br/evento/doacao-de-livros/2027-01-13/
LOCATION:Insituto Kreativ\, Rua dos Bandeirantes\, 405 - Cambuí\, Campinas\, São Paulo\, 13024011\, Brasil
CATEGORIES:Literatura
ORGANIZER;CN="Insituto Kreativ":MAILTO:kreativ@kreativ.com.br
GEO:-22.8923332;-47.0515171
X-APPLE-STRUCTURED-LOCATION;VALUE=URI;X-ADDRESS=Insituto Kreativ Rua dos Bandeirantes 405 - Cambuí Campinas São Paulo 13024011 Brasil;X-APPLE-RADIUS=500;X-TITLE=Rua dos Bandeirantes\, 405 - Cambuí:geo:-47.0515171,-22.8923332
END:VEVENT
BEGIN:VEVENT
DTSTART;VALUE=DATE:20270114
DTEND;VALUE=DATE:20270129
DTSTAMP:20260425T235456
CREATED:20250520T143719Z
LAST-MODIFIED:20250520T143719Z
UID:10004665-1799884800-1801180799@semanadalinguaalema.com.br
SUMMARY:DOAÇĀO DE LIVROS
DESCRIPTION:Romances\, biografias\, policiais e muito mais.
URL:https://semanadalinguaalema.com.br/evento/doacao-de-livros/2027-01-14/
LOCATION:Insituto Kreativ\, Rua dos Bandeirantes\, 405 - Cambuí\, Campinas\, São Paulo\, 13024011\, Brasil
CATEGORIES:Literatura
ORGANIZER;CN="Insituto Kreativ":MAILTO:kreativ@kreativ.com.br
GEO:-22.8923332;-47.0515171
X-APPLE-STRUCTURED-LOCATION;VALUE=URI;X-ADDRESS=Insituto Kreativ Rua dos Bandeirantes 405 - Cambuí Campinas São Paulo 13024011 Brasil;X-APPLE-RADIUS=500;X-TITLE=Rua dos Bandeirantes\, 405 - Cambuí:geo:-47.0515171,-22.8923332
END:VEVENT
BEGIN:VEVENT
DTSTART;VALUE=DATE:20270115
DTEND;VALUE=DATE:20270130
DTSTAMP:20260425T235456
CREATED:20250520T143719Z
LAST-MODIFIED:20250520T143719Z
UID:10004666-1799971200-1801267199@semanadalinguaalema.com.br
SUMMARY:DOAÇĀO DE LIVROS
DESCRIPTION:Romances\, biografias\, policiais e muito mais.
URL:https://semanadalinguaalema.com.br/evento/doacao-de-livros/2027-01-15/
LOCATION:Insituto Kreativ\, Rua dos Bandeirantes\, 405 - Cambuí\, Campinas\, São Paulo\, 13024011\, Brasil
CATEGORIES:Literatura
ORGANIZER;CN="Insituto Kreativ":MAILTO:kreativ@kreativ.com.br
GEO:-22.8923332;-47.0515171
X-APPLE-STRUCTURED-LOCATION;VALUE=URI;X-ADDRESS=Insituto Kreativ Rua dos Bandeirantes 405 - Cambuí Campinas São Paulo 13024011 Brasil;X-APPLE-RADIUS=500;X-TITLE=Rua dos Bandeirantes\, 405 - Cambuí:geo:-47.0515171,-22.8923332
END:VEVENT
BEGIN:VEVENT
DTSTART;VALUE=DATE:20270116
DTEND;VALUE=DATE:20270131
DTSTAMP:20260425T235456
CREATED:20250520T143719Z
LAST-MODIFIED:20250520T143719Z
UID:10004667-1800057600-1801353599@semanadalinguaalema.com.br
SUMMARY:DOAÇĀO DE LIVROS
DESCRIPTION:Romances\, biografias\, policiais e muito mais.
URL:https://semanadalinguaalema.com.br/evento/doacao-de-livros/2027-01-16/
LOCATION:Insituto Kreativ\, Rua dos Bandeirantes\, 405 - Cambuí\, Campinas\, São Paulo\, 13024011\, Brasil
CATEGORIES:Literatura
ORGANIZER;CN="Insituto Kreativ":MAILTO:kreativ@kreativ.com.br
GEO:-22.8923332;-47.0515171
X-APPLE-STRUCTURED-LOCATION;VALUE=URI;X-ADDRESS=Insituto Kreativ Rua dos Bandeirantes 405 - Cambuí Campinas São Paulo 13024011 Brasil;X-APPLE-RADIUS=500;X-TITLE=Rua dos Bandeirantes\, 405 - Cambuí:geo:-47.0515171,-22.8923332
END:VEVENT
BEGIN:VEVENT
DTSTART;VALUE=DATE:20270117
DTEND;VALUE=DATE:20270201
DTSTAMP:20260425T235456
CREATED:20250520T143719Z
LAST-MODIFIED:20250520T143719Z
UID:10004668-1800144000-1801439999@semanadalinguaalema.com.br
SUMMARY:DOAÇĀO DE LIVROS
DESCRIPTION:Romances\, biografias\, policiais e muito mais.
URL:https://semanadalinguaalema.com.br/evento/doacao-de-livros/2027-01-17/
LOCATION:Insituto Kreativ\, Rua dos Bandeirantes\, 405 - Cambuí\, Campinas\, São Paulo\, 13024011\, Brasil
CATEGORIES:Literatura
ORGANIZER;CN="Insituto Kreativ":MAILTO:kreativ@kreativ.com.br
GEO:-22.8923332;-47.0515171
X-APPLE-STRUCTURED-LOCATION;VALUE=URI;X-ADDRESS=Insituto Kreativ Rua dos Bandeirantes 405 - Cambuí Campinas São Paulo 13024011 Brasil;X-APPLE-RADIUS=500;X-TITLE=Rua dos Bandeirantes\, 405 - Cambuí:geo:-47.0515171,-22.8923332
END:VEVENT
BEGIN:VEVENT
DTSTART;VALUE=DATE:20270118
DTEND;VALUE=DATE:20270202
DTSTAMP:20260425T235456
CREATED:20250520T143719Z
LAST-MODIFIED:20250520T143719Z
UID:10004669-1800230400-1801526399@semanadalinguaalema.com.br
SUMMARY:DOAÇĀO DE LIVROS
DESCRIPTION:Romances\, biografias\, policiais e muito mais.
URL:https://semanadalinguaalema.com.br/evento/doacao-de-livros/2027-01-18/
LOCATION:Insituto Kreativ\, Rua dos Bandeirantes\, 405 - Cambuí\, Campinas\, São Paulo\, 13024011\, Brasil
CATEGORIES:Literatura
ORGANIZER;CN="Insituto Kreativ":MAILTO:kreativ@kreativ.com.br
GEO:-22.8923332;-47.0515171
X-APPLE-STRUCTURED-LOCATION;VALUE=URI;X-ADDRESS=Insituto Kreativ Rua dos Bandeirantes 405 - Cambuí Campinas São Paulo 13024011 Brasil;X-APPLE-RADIUS=500;X-TITLE=Rua dos Bandeirantes\, 405 - Cambuí:geo:-47.0515171,-22.8923332
END:VEVENT
BEGIN:VEVENT
DTSTART;VALUE=DATE:20270119
DTEND;VALUE=DATE:20270203
DTSTAMP:20260425T235456
CREATED:20250520T143719Z
LAST-MODIFIED:20250520T143719Z
UID:10004670-1800316800-1801612799@semanadalinguaalema.com.br
SUMMARY:DOAÇĀO DE LIVROS
DESCRIPTION:Romances\, biografias\, policiais e muito mais.
URL:https://semanadalinguaalema.com.br/evento/doacao-de-livros/2027-01-19/
LOCATION:Insituto Kreativ\, Rua dos Bandeirantes\, 405 - Cambuí\, Campinas\, São Paulo\, 13024011\, Brasil
CATEGORIES:Literatura
ORGANIZER;CN="Insituto Kreativ":MAILTO:kreativ@kreativ.com.br
GEO:-22.8923332;-47.0515171
X-APPLE-STRUCTURED-LOCATION;VALUE=URI;X-ADDRESS=Insituto Kreativ Rua dos Bandeirantes 405 - Cambuí Campinas São Paulo 13024011 Brasil;X-APPLE-RADIUS=500;X-TITLE=Rua dos Bandeirantes\, 405 - Cambuí:geo:-47.0515171,-22.8923332
END:VEVENT
BEGIN:VEVENT
DTSTART;VALUE=DATE:20270120
DTEND;VALUE=DATE:20270204
DTSTAMP:20260425T235456
CREATED:20250520T143719Z
LAST-MODIFIED:20250520T143719Z
UID:10004671-1800403200-1801699199@semanadalinguaalema.com.br
SUMMARY:DOAÇĀO DE LIVROS
DESCRIPTION:Romances\, biografias\, policiais e muito mais.
URL:https://semanadalinguaalema.com.br/evento/doacao-de-livros/2027-01-20/
LOCATION:Insituto Kreativ\, Rua dos Bandeirantes\, 405 - Cambuí\, Campinas\, São Paulo\, 13024011\, Brasil
CATEGORIES:Literatura
ORGANIZER;CN="Insituto Kreativ":MAILTO:kreativ@kreativ.com.br
GEO:-22.8923332;-47.0515171
X-APPLE-STRUCTURED-LOCATION;VALUE=URI;X-ADDRESS=Insituto Kreativ Rua dos Bandeirantes 405 - Cambuí Campinas São Paulo 13024011 Brasil;X-APPLE-RADIUS=500;X-TITLE=Rua dos Bandeirantes\, 405 - Cambuí:geo:-47.0515171,-22.8923332
END:VEVENT
BEGIN:VEVENT
DTSTART;VALUE=DATE:20270121
DTEND;VALUE=DATE:20270205
DTSTAMP:20260425T235456
CREATED:20250520T143719Z
LAST-MODIFIED:20250520T143719Z
UID:10004672-1800489600-1801785599@semanadalinguaalema.com.br
SUMMARY:DOAÇĀO DE LIVROS
DESCRIPTION:Romances\, biografias\, policiais e muito mais.
URL:https://semanadalinguaalema.com.br/evento/doacao-de-livros/2027-01-21/
LOCATION:Insituto Kreativ\, Rua dos Bandeirantes\, 405 - Cambuí\, Campinas\, São Paulo\, 13024011\, Brasil
CATEGORIES:Literatura
ORGANIZER;CN="Insituto Kreativ":MAILTO:kreativ@kreativ.com.br
GEO:-22.8923332;-47.0515171
X-APPLE-STRUCTURED-LOCATION;VALUE=URI;X-ADDRESS=Insituto Kreativ Rua dos Bandeirantes 405 - Cambuí Campinas São Paulo 13024011 Brasil;X-APPLE-RADIUS=500;X-TITLE=Rua dos Bandeirantes\, 405 - Cambuí:geo:-47.0515171,-22.8923332
END:VEVENT
BEGIN:VEVENT
DTSTART;VALUE=DATE:20270122
DTEND;VALUE=DATE:20270206
DTSTAMP:20260425T235456
CREATED:20250520T143719Z
LAST-MODIFIED:20250520T143719Z
UID:10004673-1800576000-1801871999@semanadalinguaalema.com.br
SUMMARY:DOAÇĀO DE LIVROS
DESCRIPTION:Romances\, biografias\, policiais e muito mais.
URL:https://semanadalinguaalema.com.br/evento/doacao-de-livros/2027-01-22/
LOCATION:Insituto Kreativ\, Rua dos Bandeirantes\, 405 - Cambuí\, Campinas\, São Paulo\, 13024011\, Brasil
CATEGORIES:Literatura
ORGANIZER;CN="Insituto Kreativ":MAILTO:kreativ@kreativ.com.br
GEO:-22.8923332;-47.0515171
X-APPLE-STRUCTURED-LOCATION;VALUE=URI;X-ADDRESS=Insituto Kreativ Rua dos Bandeirantes 405 - Cambuí Campinas São Paulo 13024011 Brasil;X-APPLE-RADIUS=500;X-TITLE=Rua dos Bandeirantes\, 405 - Cambuí:geo:-47.0515171,-22.8923332
END:VEVENT
BEGIN:VEVENT
DTSTART;VALUE=DATE:20270123
DTEND;VALUE=DATE:20270207
DTSTAMP:20260425T235456
CREATED:20250520T143719Z
LAST-MODIFIED:20250520T143719Z
UID:10004674-1800662400-1801958399@semanadalinguaalema.com.br
SUMMARY:DOAÇĀO DE LIVROS
DESCRIPTION:Romances\, biografias\, policiais e muito mais.
URL:https://semanadalinguaalema.com.br/evento/doacao-de-livros/2027-01-23/
LOCATION:Insituto Kreativ\, Rua dos Bandeirantes\, 405 - Cambuí\, Campinas\, São Paulo\, 13024011\, Brasil
CATEGORIES:Literatura
ORGANIZER;CN="Insituto Kreativ":MAILTO:kreativ@kreativ.com.br
GEO:-22.8923332;-47.0515171
X-APPLE-STRUCTURED-LOCATION;VALUE=URI;X-ADDRESS=Insituto Kreativ Rua dos Bandeirantes 405 - Cambuí Campinas São Paulo 13024011 Brasil;X-APPLE-RADIUS=500;X-TITLE=Rua dos Bandeirantes\, 405 - Cambuí:geo:-47.0515171,-22.8923332
END:VEVENT
BEGIN:VEVENT
DTSTART;VALUE=DATE:20270124
DTEND;VALUE=DATE:20270208
DTSTAMP:20260425T235456
CREATED:20250520T143719Z
LAST-MODIFIED:20250520T143719Z
UID:10004675-1800748800-1802044799@semanadalinguaalema.com.br
SUMMARY:DOAÇĀO DE LIVROS
DESCRIPTION:Romances\, biografias\, policiais e muito mais.
URL:https://semanadalinguaalema.com.br/evento/doacao-de-livros/2027-01-24/
LOCATION:Insituto Kreativ\, Rua dos Bandeirantes\, 405 - Cambuí\, Campinas\, São Paulo\, 13024011\, Brasil
CATEGORIES:Literatura
ORGANIZER;CN="Insituto Kreativ":MAILTO:kreativ@kreativ.com.br
GEO:-22.8923332;-47.0515171
X-APPLE-STRUCTURED-LOCATION;VALUE=URI;X-ADDRESS=Insituto Kreativ Rua dos Bandeirantes 405 - Cambuí Campinas São Paulo 13024011 Brasil;X-APPLE-RADIUS=500;X-TITLE=Rua dos Bandeirantes\, 405 - Cambuí:geo:-47.0515171,-22.8923332
END:VEVENT
BEGIN:VEVENT
DTSTART;VALUE=DATE:20270125
DTEND;VALUE=DATE:20270209
DTSTAMP:20260425T235456
CREATED:20250520T143719Z
LAST-MODIFIED:20250520T143719Z
UID:10004676-1800835200-1802131199@semanadalinguaalema.com.br
SUMMARY:DOAÇĀO DE LIVROS
DESCRIPTION:Romances\, biografias\, policiais e muito mais.
URL:https://semanadalinguaalema.com.br/evento/doacao-de-livros/2027-01-25/
LOCATION:Insituto Kreativ\, Rua dos Bandeirantes\, 405 - Cambuí\, Campinas\, São Paulo\, 13024011\, Brasil
CATEGORIES:Literatura
ORGANIZER;CN="Insituto Kreativ":MAILTO:kreativ@kreativ.com.br
GEO:-22.8923332;-47.0515171
X-APPLE-STRUCTURED-LOCATION;VALUE=URI;X-ADDRESS=Insituto Kreativ Rua dos Bandeirantes 405 - Cambuí Campinas São Paulo 13024011 Brasil;X-APPLE-RADIUS=500;X-TITLE=Rua dos Bandeirantes\, 405 - Cambuí:geo:-47.0515171,-22.8923332
END:VEVENT
BEGIN:VEVENT
DTSTART;VALUE=DATE:20270126
DTEND;VALUE=DATE:20270210
DTSTAMP:20260425T235456
CREATED:20250520T143719Z
LAST-MODIFIED:20250520T143719Z
UID:10004677-1800921600-1802217599@semanadalinguaalema.com.br
SUMMARY:DOAÇĀO DE LIVROS
DESCRIPTION:Romances\, biografias\, policiais e muito mais.
URL:https://semanadalinguaalema.com.br/evento/doacao-de-livros/2027-01-26/
LOCATION:Insituto Kreativ\, Rua dos Bandeirantes\, 405 - Cambuí\, Campinas\, São Paulo\, 13024011\, Brasil
CATEGORIES:Literatura
ORGANIZER;CN="Insituto Kreativ":MAILTO:kreativ@kreativ.com.br
GEO:-22.8923332;-47.0515171
X-APPLE-STRUCTURED-LOCATION;VALUE=URI;X-ADDRESS=Insituto Kreativ Rua dos Bandeirantes 405 - Cambuí Campinas São Paulo 13024011 Brasil;X-APPLE-RADIUS=500;X-TITLE=Rua dos Bandeirantes\, 405 - Cambuí:geo:-47.0515171,-22.8923332
END:VEVENT
BEGIN:VEVENT
DTSTART;VALUE=DATE:20270127
DTEND;VALUE=DATE:20270211
DTSTAMP:20260425T235456
CREATED:20250520T143719Z
LAST-MODIFIED:20250520T143719Z
UID:10004678-1801008000-1802303999@semanadalinguaalema.com.br
SUMMARY:DOAÇĀO DE LIVROS
DESCRIPTION:Romances\, biografias\, policiais e muito mais.
URL:https://semanadalinguaalema.com.br/evento/doacao-de-livros/2027-01-27/
LOCATION:Insituto Kreativ\, Rua dos Bandeirantes\, 405 - Cambuí\, Campinas\, São Paulo\, 13024011\, Brasil
CATEGORIES:Literatura
ORGANIZER;CN="Insituto Kreativ":MAILTO:kreativ@kreativ.com.br
GEO:-22.8923332;-47.0515171
X-APPLE-STRUCTURED-LOCATION;VALUE=URI;X-ADDRESS=Insituto Kreativ Rua dos Bandeirantes 405 - Cambuí Campinas São Paulo 13024011 Brasil;X-APPLE-RADIUS=500;X-TITLE=Rua dos Bandeirantes\, 405 - Cambuí:geo:-47.0515171,-22.8923332
END:VEVENT
END:VCALENDAR