BEGIN:VCALENDAR
VERSION:2.0
PRODID:-//Semana da Língua Alemã - ECPv6.4.0.1//NONSGML v1.0//EN
CALSCALE:GREGORIAN
METHOD:PUBLISH
X-WR-CALNAME:Semana da Língua Alemã
X-ORIGINAL-URL:https://semanadalinguaalema.com.br
X-WR-CALDESC:Eventos para Semana da Língua Alemã
REFRESH-INTERVAL;VALUE=DURATION:PT1H
X-Robots-Tag:noindex
X-PUBLISHED-TTL:PT1H
BEGIN:VTIMEZONE
TZID:America/Sao_Paulo
BEGIN:STANDARD
TZOFFSETFROM:-0300
TZOFFSETTO:-0300
TZNAME:-03
DTSTART:20260101T000000
END:STANDARD
END:VTIMEZONE
BEGIN:VEVENT
DTSTART;VALUE=DATE:20261121
DTEND;VALUE=DATE:20261206
DTSTAMP:20260422T194310
CREATED:20250520T143719Z
LAST-MODIFIED:20250520T143719Z
UID:10004611-1795219200-1796515199@semanadalinguaalema.com.br
SUMMARY:DOAÇĀO DE LIVROS
DESCRIPTION:Romances\, biografias\, policiais e muito mais.
URL:https://semanadalinguaalema.com.br/evento/doacao-de-livros/2026-11-21/
LOCATION:Insituto Kreativ\, Rua dos Bandeirantes\, 405 - Cambuí\, Campinas\, São Paulo\, 13024011\, Brasil
CATEGORIES:Literatura
ORGANIZER;CN="Insituto Kreativ":MAILTO:kreativ@kreativ.com.br
GEO:-22.8923332;-47.0515171
X-APPLE-STRUCTURED-LOCATION;VALUE=URI;X-ADDRESS=Insituto Kreativ Rua dos Bandeirantes 405 - Cambuí Campinas São Paulo 13024011 Brasil;X-APPLE-RADIUS=500;X-TITLE=Rua dos Bandeirantes\, 405 - Cambuí:geo:-47.0515171,-22.8923332
END:VEVENT
BEGIN:VEVENT
DTSTART;VALUE=DATE:20261122
DTEND;VALUE=DATE:20261207
DTSTAMP:20260422T194310
CREATED:20250520T143719Z
LAST-MODIFIED:20250520T143719Z
UID:10004612-1795305600-1796601599@semanadalinguaalema.com.br
SUMMARY:DOAÇĀO DE LIVROS
DESCRIPTION:Romances\, biografias\, policiais e muito mais.
URL:https://semanadalinguaalema.com.br/evento/doacao-de-livros/2026-11-22/
LOCATION:Insituto Kreativ\, Rua dos Bandeirantes\, 405 - Cambuí\, Campinas\, São Paulo\, 13024011\, Brasil
CATEGORIES:Literatura
ORGANIZER;CN="Insituto Kreativ":MAILTO:kreativ@kreativ.com.br
GEO:-22.8923332;-47.0515171
X-APPLE-STRUCTURED-LOCATION;VALUE=URI;X-ADDRESS=Insituto Kreativ Rua dos Bandeirantes 405 - Cambuí Campinas São Paulo 13024011 Brasil;X-APPLE-RADIUS=500;X-TITLE=Rua dos Bandeirantes\, 405 - Cambuí:geo:-47.0515171,-22.8923332
END:VEVENT
BEGIN:VEVENT
DTSTART;VALUE=DATE:20261123
DTEND;VALUE=DATE:20261208
DTSTAMP:20260422T194310
CREATED:20250520T143719Z
LAST-MODIFIED:20250520T143719Z
UID:10004613-1795392000-1796687999@semanadalinguaalema.com.br
SUMMARY:DOAÇĀO DE LIVROS
DESCRIPTION:Romances\, biografias\, policiais e muito mais.
URL:https://semanadalinguaalema.com.br/evento/doacao-de-livros/2026-11-23/
LOCATION:Insituto Kreativ\, Rua dos Bandeirantes\, 405 - Cambuí\, Campinas\, São Paulo\, 13024011\, Brasil
CATEGORIES:Literatura
ORGANIZER;CN="Insituto Kreativ":MAILTO:kreativ@kreativ.com.br
GEO:-22.8923332;-47.0515171
X-APPLE-STRUCTURED-LOCATION;VALUE=URI;X-ADDRESS=Insituto Kreativ Rua dos Bandeirantes 405 - Cambuí Campinas São Paulo 13024011 Brasil;X-APPLE-RADIUS=500;X-TITLE=Rua dos Bandeirantes\, 405 - Cambuí:geo:-47.0515171,-22.8923332
END:VEVENT
BEGIN:VEVENT
DTSTART;VALUE=DATE:20261124
DTEND;VALUE=DATE:20261209
DTSTAMP:20260422T194310
CREATED:20250520T143719Z
LAST-MODIFIED:20250520T143719Z
UID:10004614-1795478400-1796774399@semanadalinguaalema.com.br
SUMMARY:DOAÇĀO DE LIVROS
DESCRIPTION:Romances\, biografias\, policiais e muito mais.
URL:https://semanadalinguaalema.com.br/evento/doacao-de-livros/2026-11-24/
LOCATION:Insituto Kreativ\, Rua dos Bandeirantes\, 405 - Cambuí\, Campinas\, São Paulo\, 13024011\, Brasil
CATEGORIES:Literatura
ORGANIZER;CN="Insituto Kreativ":MAILTO:kreativ@kreativ.com.br
GEO:-22.8923332;-47.0515171
X-APPLE-STRUCTURED-LOCATION;VALUE=URI;X-ADDRESS=Insituto Kreativ Rua dos Bandeirantes 405 - Cambuí Campinas São Paulo 13024011 Brasil;X-APPLE-RADIUS=500;X-TITLE=Rua dos Bandeirantes\, 405 - Cambuí:geo:-47.0515171,-22.8923332
END:VEVENT
BEGIN:VEVENT
DTSTART;VALUE=DATE:20261125
DTEND;VALUE=DATE:20261210
DTSTAMP:20260422T194310
CREATED:20250520T143719Z
LAST-MODIFIED:20250520T143719Z
UID:10004615-1795564800-1796860799@semanadalinguaalema.com.br
SUMMARY:DOAÇĀO DE LIVROS
DESCRIPTION:Romances\, biografias\, policiais e muito mais.
URL:https://semanadalinguaalema.com.br/evento/doacao-de-livros/2026-11-25/
LOCATION:Insituto Kreativ\, Rua dos Bandeirantes\, 405 - Cambuí\, Campinas\, São Paulo\, 13024011\, Brasil
CATEGORIES:Literatura
ORGANIZER;CN="Insituto Kreativ":MAILTO:kreativ@kreativ.com.br
GEO:-22.8923332;-47.0515171
X-APPLE-STRUCTURED-LOCATION;VALUE=URI;X-ADDRESS=Insituto Kreativ Rua dos Bandeirantes 405 - Cambuí Campinas São Paulo 13024011 Brasil;X-APPLE-RADIUS=500;X-TITLE=Rua dos Bandeirantes\, 405 - Cambuí:geo:-47.0515171,-22.8923332
END:VEVENT
BEGIN:VEVENT
DTSTART;VALUE=DATE:20261126
DTEND;VALUE=DATE:20261211
DTSTAMP:20260422T194310
CREATED:20250520T143719Z
LAST-MODIFIED:20250520T143719Z
UID:10004616-1795651200-1796947199@semanadalinguaalema.com.br
SUMMARY:DOAÇĀO DE LIVROS
DESCRIPTION:Romances\, biografias\, policiais e muito mais.
URL:https://semanadalinguaalema.com.br/evento/doacao-de-livros/2026-11-26/
LOCATION:Insituto Kreativ\, Rua dos Bandeirantes\, 405 - Cambuí\, Campinas\, São Paulo\, 13024011\, Brasil
CATEGORIES:Literatura
ORGANIZER;CN="Insituto Kreativ":MAILTO:kreativ@kreativ.com.br
GEO:-22.8923332;-47.0515171
X-APPLE-STRUCTURED-LOCATION;VALUE=URI;X-ADDRESS=Insituto Kreativ Rua dos Bandeirantes 405 - Cambuí Campinas São Paulo 13024011 Brasil;X-APPLE-RADIUS=500;X-TITLE=Rua dos Bandeirantes\, 405 - Cambuí:geo:-47.0515171,-22.8923332
END:VEVENT
BEGIN:VEVENT
DTSTART;VALUE=DATE:20261127
DTEND;VALUE=DATE:20261212
DTSTAMP:20260422T194310
CREATED:20250520T143719Z
LAST-MODIFIED:20250520T143719Z
UID:10004617-1795737600-1797033599@semanadalinguaalema.com.br
SUMMARY:DOAÇĀO DE LIVROS
DESCRIPTION:Romances\, biografias\, policiais e muito mais.
URL:https://semanadalinguaalema.com.br/evento/doacao-de-livros/2026-11-27/
LOCATION:Insituto Kreativ\, Rua dos Bandeirantes\, 405 - Cambuí\, Campinas\, São Paulo\, 13024011\, Brasil
CATEGORIES:Literatura
ORGANIZER;CN="Insituto Kreativ":MAILTO:kreativ@kreativ.com.br
GEO:-22.8923332;-47.0515171
X-APPLE-STRUCTURED-LOCATION;VALUE=URI;X-ADDRESS=Insituto Kreativ Rua dos Bandeirantes 405 - Cambuí Campinas São Paulo 13024011 Brasil;X-APPLE-RADIUS=500;X-TITLE=Rua dos Bandeirantes\, 405 - Cambuí:geo:-47.0515171,-22.8923332
END:VEVENT
BEGIN:VEVENT
DTSTART;VALUE=DATE:20261128
DTEND;VALUE=DATE:20261213
DTSTAMP:20260422T194311
CREATED:20250520T143719Z
LAST-MODIFIED:20250520T143719Z
UID:10004618-1795824000-1797119999@semanadalinguaalema.com.br
SUMMARY:DOAÇĀO DE LIVROS
DESCRIPTION:Romances\, biografias\, policiais e muito mais.
URL:https://semanadalinguaalema.com.br/evento/doacao-de-livros/2026-11-28/
LOCATION:Insituto Kreativ\, Rua dos Bandeirantes\, 405 - Cambuí\, Campinas\, São Paulo\, 13024011\, Brasil
CATEGORIES:Literatura
ORGANIZER;CN="Insituto Kreativ":MAILTO:kreativ@kreativ.com.br
GEO:-22.8923332;-47.0515171
X-APPLE-STRUCTURED-LOCATION;VALUE=URI;X-ADDRESS=Insituto Kreativ Rua dos Bandeirantes 405 - Cambuí Campinas São Paulo 13024011 Brasil;X-APPLE-RADIUS=500;X-TITLE=Rua dos Bandeirantes\, 405 - Cambuí:geo:-47.0515171,-22.8923332
END:VEVENT
BEGIN:VEVENT
DTSTART;VALUE=DATE:20261129
DTEND;VALUE=DATE:20261214
DTSTAMP:20260422T194311
CREATED:20250520T143719Z
LAST-MODIFIED:20250520T143719Z
UID:10004619-1795910400-1797206399@semanadalinguaalema.com.br
SUMMARY:DOAÇĀO DE LIVROS
DESCRIPTION:Romances\, biografias\, policiais e muito mais.
URL:https://semanadalinguaalema.com.br/evento/doacao-de-livros/2026-11-29/
LOCATION:Insituto Kreativ\, Rua dos Bandeirantes\, 405 - Cambuí\, Campinas\, São Paulo\, 13024011\, Brasil
CATEGORIES:Literatura
ORGANIZER;CN="Insituto Kreativ":MAILTO:kreativ@kreativ.com.br
GEO:-22.8923332;-47.0515171
X-APPLE-STRUCTURED-LOCATION;VALUE=URI;X-ADDRESS=Insituto Kreativ Rua dos Bandeirantes 405 - Cambuí Campinas São Paulo 13024011 Brasil;X-APPLE-RADIUS=500;X-TITLE=Rua dos Bandeirantes\, 405 - Cambuí:geo:-47.0515171,-22.8923332
END:VEVENT
BEGIN:VEVENT
DTSTART;VALUE=DATE:20261130
DTEND;VALUE=DATE:20261215
DTSTAMP:20260422T194311
CREATED:20250520T143719Z
LAST-MODIFIED:20250520T143719Z
UID:10004620-1795996800-1797292799@semanadalinguaalema.com.br
SUMMARY:DOAÇĀO DE LIVROS
DESCRIPTION:Romances\, biografias\, policiais e muito mais.
URL:https://semanadalinguaalema.com.br/evento/doacao-de-livros/2026-11-30/
LOCATION:Insituto Kreativ\, Rua dos Bandeirantes\, 405 - Cambuí\, Campinas\, São Paulo\, 13024011\, Brasil
CATEGORIES:Literatura
ORGANIZER;CN="Insituto Kreativ":MAILTO:kreativ@kreativ.com.br
GEO:-22.8923332;-47.0515171
X-APPLE-STRUCTURED-LOCATION;VALUE=URI;X-ADDRESS=Insituto Kreativ Rua dos Bandeirantes 405 - Cambuí Campinas São Paulo 13024011 Brasil;X-APPLE-RADIUS=500;X-TITLE=Rua dos Bandeirantes\, 405 - Cambuí:geo:-47.0515171,-22.8923332
END:VEVENT
BEGIN:VEVENT
DTSTART;VALUE=DATE:20261201
DTEND;VALUE=DATE:20261216
DTSTAMP:20260422T194311
CREATED:20250520T143719Z
LAST-MODIFIED:20250520T143719Z
UID:10004621-1796083200-1797379199@semanadalinguaalema.com.br
SUMMARY:DOAÇĀO DE LIVROS
DESCRIPTION:Romances\, biografias\, policiais e muito mais.
URL:https://semanadalinguaalema.com.br/evento/doacao-de-livros/2026-12-01/
LOCATION:Insituto Kreativ\, Rua dos Bandeirantes\, 405 - Cambuí\, Campinas\, São Paulo\, 13024011\, Brasil
CATEGORIES:Literatura
ORGANIZER;CN="Insituto Kreativ":MAILTO:kreativ@kreativ.com.br
GEO:-22.8923332;-47.0515171
X-APPLE-STRUCTURED-LOCATION;VALUE=URI;X-ADDRESS=Insituto Kreativ Rua dos Bandeirantes 405 - Cambuí Campinas São Paulo 13024011 Brasil;X-APPLE-RADIUS=500;X-TITLE=Rua dos Bandeirantes\, 405 - Cambuí:geo:-47.0515171,-22.8923332
END:VEVENT
BEGIN:VEVENT
DTSTART;VALUE=DATE:20261202
DTEND;VALUE=DATE:20261217
DTSTAMP:20260422T194311
CREATED:20250520T143719Z
LAST-MODIFIED:20250520T143719Z
UID:10004622-1796169600-1797465599@semanadalinguaalema.com.br
SUMMARY:DOAÇĀO DE LIVROS
DESCRIPTION:Romances\, biografias\, policiais e muito mais.
URL:https://semanadalinguaalema.com.br/evento/doacao-de-livros/2026-12-02/
LOCATION:Insituto Kreativ\, Rua dos Bandeirantes\, 405 - Cambuí\, Campinas\, São Paulo\, 13024011\, Brasil
CATEGORIES:Literatura
ORGANIZER;CN="Insituto Kreativ":MAILTO:kreativ@kreativ.com.br
GEO:-22.8923332;-47.0515171
X-APPLE-STRUCTURED-LOCATION;VALUE=URI;X-ADDRESS=Insituto Kreativ Rua dos Bandeirantes 405 - Cambuí Campinas São Paulo 13024011 Brasil;X-APPLE-RADIUS=500;X-TITLE=Rua dos Bandeirantes\, 405 - Cambuí:geo:-47.0515171,-22.8923332
END:VEVENT
BEGIN:VEVENT
DTSTART;VALUE=DATE:20261203
DTEND;VALUE=DATE:20261218
DTSTAMP:20260422T194311
CREATED:20250520T143719Z
LAST-MODIFIED:20250520T143719Z
UID:10004623-1796256000-1797551999@semanadalinguaalema.com.br
SUMMARY:DOAÇĀO DE LIVROS
DESCRIPTION:Romances\, biografias\, policiais e muito mais.
URL:https://semanadalinguaalema.com.br/evento/doacao-de-livros/2026-12-03/
LOCATION:Insituto Kreativ\, Rua dos Bandeirantes\, 405 - Cambuí\, Campinas\, São Paulo\, 13024011\, Brasil
CATEGORIES:Literatura
ORGANIZER;CN="Insituto Kreativ":MAILTO:kreativ@kreativ.com.br
GEO:-22.8923332;-47.0515171
X-APPLE-STRUCTURED-LOCATION;VALUE=URI;X-ADDRESS=Insituto Kreativ Rua dos Bandeirantes 405 - Cambuí Campinas São Paulo 13024011 Brasil;X-APPLE-RADIUS=500;X-TITLE=Rua dos Bandeirantes\, 405 - Cambuí:geo:-47.0515171,-22.8923332
END:VEVENT
BEGIN:VEVENT
DTSTART;VALUE=DATE:20261204
DTEND;VALUE=DATE:20261219
DTSTAMP:20260422T194311
CREATED:20250520T143719Z
LAST-MODIFIED:20250520T143719Z
UID:10004624-1796342400-1797638399@semanadalinguaalema.com.br
SUMMARY:DOAÇĀO DE LIVROS
DESCRIPTION:Romances\, biografias\, policiais e muito mais.
URL:https://semanadalinguaalema.com.br/evento/doacao-de-livros/2026-12-04/
LOCATION:Insituto Kreativ\, Rua dos Bandeirantes\, 405 - Cambuí\, Campinas\, São Paulo\, 13024011\, Brasil
CATEGORIES:Literatura
ORGANIZER;CN="Insituto Kreativ":MAILTO:kreativ@kreativ.com.br
GEO:-22.8923332;-47.0515171
X-APPLE-STRUCTURED-LOCATION;VALUE=URI;X-ADDRESS=Insituto Kreativ Rua dos Bandeirantes 405 - Cambuí Campinas São Paulo 13024011 Brasil;X-APPLE-RADIUS=500;X-TITLE=Rua dos Bandeirantes\, 405 - Cambuí:geo:-47.0515171,-22.8923332
END:VEVENT
BEGIN:VEVENT
DTSTART;VALUE=DATE:20261205
DTEND;VALUE=DATE:20261220
DTSTAMP:20260422T194311
CREATED:20250520T143719Z
LAST-MODIFIED:20250520T143719Z
UID:10004625-1796428800-1797724799@semanadalinguaalema.com.br
SUMMARY:DOAÇĀO DE LIVROS
DESCRIPTION:Romances\, biografias\, policiais e muito mais.
URL:https://semanadalinguaalema.com.br/evento/doacao-de-livros/2026-12-05/
LOCATION:Insituto Kreativ\, Rua dos Bandeirantes\, 405 - Cambuí\, Campinas\, São Paulo\, 13024011\, Brasil
CATEGORIES:Literatura
ORGANIZER;CN="Insituto Kreativ":MAILTO:kreativ@kreativ.com.br
GEO:-22.8923332;-47.0515171
X-APPLE-STRUCTURED-LOCATION;VALUE=URI;X-ADDRESS=Insituto Kreativ Rua dos Bandeirantes 405 - Cambuí Campinas São Paulo 13024011 Brasil;X-APPLE-RADIUS=500;X-TITLE=Rua dos Bandeirantes\, 405 - Cambuí:geo:-47.0515171,-22.8923332
END:VEVENT
END:VCALENDAR