BEGIN:VCALENDAR
VERSION:2.0
PRODID:-//Semana da Língua Alemã - ECPv6.4.0.1//NONSGML v1.0//EN
CALSCALE:GREGORIAN
METHOD:PUBLISH
X-WR-CALNAME:Semana da Língua Alemã
X-ORIGINAL-URL:https://semanadalinguaalema.com.br
X-WR-CALDESC:Eventos para Semana da Língua Alemã
REFRESH-INTERVAL;VALUE=DURATION:PT1H
X-Robots-Tag:noindex
X-PUBLISHED-TTL:PT1H
BEGIN:VTIMEZONE
TZID:America/Sao_Paulo
BEGIN:STANDARD
TZOFFSETFROM:-0300
TZOFFSETTO:-0300
TZNAME:-03
DTSTART:20260101T000000
END:STANDARD
END:VTIMEZONE
BEGIN:VEVENT
DTSTART;VALUE=DATE:20260627
DTEND;VALUE=DATE:20260712
DTSTAMP:20260420T000116
CREATED:20250520T143719Z
LAST-MODIFIED:20250520T143719Z
UID:10004464-1782518400-1783814399@semanadalinguaalema.com.br
SUMMARY:DOAÇĀO DE LIVROS
DESCRIPTION:Romances\, biografias\, policiais e muito mais.
URL:https://semanadalinguaalema.com.br/evento/doacao-de-livros/2026-06-27/
LOCATION:Insituto Kreativ\, Rua dos Bandeirantes\, 405 - Cambuí\, Campinas\, São Paulo\, 13024011\, Brasil
CATEGORIES:Literatura
ORGANIZER;CN="Insituto Kreativ":MAILTO:kreativ@kreativ.com.br
GEO:-22.8923332;-47.0515171
X-APPLE-STRUCTURED-LOCATION;VALUE=URI;X-ADDRESS=Insituto Kreativ Rua dos Bandeirantes 405 - Cambuí Campinas São Paulo 13024011 Brasil;X-APPLE-RADIUS=500;X-TITLE=Rua dos Bandeirantes\, 405 - Cambuí:geo:-47.0515171,-22.8923332
END:VEVENT
BEGIN:VEVENT
DTSTART;VALUE=DATE:20260628
DTEND;VALUE=DATE:20260713
DTSTAMP:20260420T000116
CREATED:20250520T143719Z
LAST-MODIFIED:20250520T143719Z
UID:10004465-1782604800-1783900799@semanadalinguaalema.com.br
SUMMARY:DOAÇĀO DE LIVROS
DESCRIPTION:Romances\, biografias\, policiais e muito mais.
URL:https://semanadalinguaalema.com.br/evento/doacao-de-livros/2026-06-28/
LOCATION:Insituto Kreativ\, Rua dos Bandeirantes\, 405 - Cambuí\, Campinas\, São Paulo\, 13024011\, Brasil
CATEGORIES:Literatura
ORGANIZER;CN="Insituto Kreativ":MAILTO:kreativ@kreativ.com.br
GEO:-22.8923332;-47.0515171
X-APPLE-STRUCTURED-LOCATION;VALUE=URI;X-ADDRESS=Insituto Kreativ Rua dos Bandeirantes 405 - Cambuí Campinas São Paulo 13024011 Brasil;X-APPLE-RADIUS=500;X-TITLE=Rua dos Bandeirantes\, 405 - Cambuí:geo:-47.0515171,-22.8923332
END:VEVENT
BEGIN:VEVENT
DTSTART;VALUE=DATE:20260629
DTEND;VALUE=DATE:20260714
DTSTAMP:20260420T000116
CREATED:20250520T143719Z
LAST-MODIFIED:20250520T143719Z
UID:10004466-1782691200-1783987199@semanadalinguaalema.com.br
SUMMARY:DOAÇĀO DE LIVROS
DESCRIPTION:Romances\, biografias\, policiais e muito mais.
URL:https://semanadalinguaalema.com.br/evento/doacao-de-livros/2026-06-29/
LOCATION:Insituto Kreativ\, Rua dos Bandeirantes\, 405 - Cambuí\, Campinas\, São Paulo\, 13024011\, Brasil
CATEGORIES:Literatura
ORGANIZER;CN="Insituto Kreativ":MAILTO:kreativ@kreativ.com.br
GEO:-22.8923332;-47.0515171
X-APPLE-STRUCTURED-LOCATION;VALUE=URI;X-ADDRESS=Insituto Kreativ Rua dos Bandeirantes 405 - Cambuí Campinas São Paulo 13024011 Brasil;X-APPLE-RADIUS=500;X-TITLE=Rua dos Bandeirantes\, 405 - Cambuí:geo:-47.0515171,-22.8923332
END:VEVENT
BEGIN:VEVENT
DTSTART;VALUE=DATE:20260630
DTEND;VALUE=DATE:20260715
DTSTAMP:20260420T000116
CREATED:20250520T143719Z
LAST-MODIFIED:20250520T143719Z
UID:10004467-1782777600-1784073599@semanadalinguaalema.com.br
SUMMARY:DOAÇĀO DE LIVROS
DESCRIPTION:Romances\, biografias\, policiais e muito mais.
URL:https://semanadalinguaalema.com.br/evento/doacao-de-livros/2026-06-30/
LOCATION:Insituto Kreativ\, Rua dos Bandeirantes\, 405 - Cambuí\, Campinas\, São Paulo\, 13024011\, Brasil
CATEGORIES:Literatura
ORGANIZER;CN="Insituto Kreativ":MAILTO:kreativ@kreativ.com.br
GEO:-22.8923332;-47.0515171
X-APPLE-STRUCTURED-LOCATION;VALUE=URI;X-ADDRESS=Insituto Kreativ Rua dos Bandeirantes 405 - Cambuí Campinas São Paulo 13024011 Brasil;X-APPLE-RADIUS=500;X-TITLE=Rua dos Bandeirantes\, 405 - Cambuí:geo:-47.0515171,-22.8923332
END:VEVENT
BEGIN:VEVENT
DTSTART;VALUE=DATE:20260701
DTEND;VALUE=DATE:20260716
DTSTAMP:20260420T000116
CREATED:20250520T143719Z
LAST-MODIFIED:20250520T143719Z
UID:10004468-1782864000-1784159999@semanadalinguaalema.com.br
SUMMARY:DOAÇĀO DE LIVROS
DESCRIPTION:Romances\, biografias\, policiais e muito mais.
URL:https://semanadalinguaalema.com.br/evento/doacao-de-livros/2026-07-01/
LOCATION:Insituto Kreativ\, Rua dos Bandeirantes\, 405 - Cambuí\, Campinas\, São Paulo\, 13024011\, Brasil
CATEGORIES:Literatura
ORGANIZER;CN="Insituto Kreativ":MAILTO:kreativ@kreativ.com.br
GEO:-22.8923332;-47.0515171
X-APPLE-STRUCTURED-LOCATION;VALUE=URI;X-ADDRESS=Insituto Kreativ Rua dos Bandeirantes 405 - Cambuí Campinas São Paulo 13024011 Brasil;X-APPLE-RADIUS=500;X-TITLE=Rua dos Bandeirantes\, 405 - Cambuí:geo:-47.0515171,-22.8923332
END:VEVENT
BEGIN:VEVENT
DTSTART;VALUE=DATE:20260702
DTEND;VALUE=DATE:20260717
DTSTAMP:20260420T000116
CREATED:20250520T143719Z
LAST-MODIFIED:20250520T143719Z
UID:10004469-1782950400-1784246399@semanadalinguaalema.com.br
SUMMARY:DOAÇĀO DE LIVROS
DESCRIPTION:Romances\, biografias\, policiais e muito mais.
URL:https://semanadalinguaalema.com.br/evento/doacao-de-livros/2026-07-02/
LOCATION:Insituto Kreativ\, Rua dos Bandeirantes\, 405 - Cambuí\, Campinas\, São Paulo\, 13024011\, Brasil
CATEGORIES:Literatura
ORGANIZER;CN="Insituto Kreativ":MAILTO:kreativ@kreativ.com.br
GEO:-22.8923332;-47.0515171
X-APPLE-STRUCTURED-LOCATION;VALUE=URI;X-ADDRESS=Insituto Kreativ Rua dos Bandeirantes 405 - Cambuí Campinas São Paulo 13024011 Brasil;X-APPLE-RADIUS=500;X-TITLE=Rua dos Bandeirantes\, 405 - Cambuí:geo:-47.0515171,-22.8923332
END:VEVENT
BEGIN:VEVENT
DTSTART;VALUE=DATE:20260703
DTEND;VALUE=DATE:20260718
DTSTAMP:20260420T000116
CREATED:20250520T143719Z
LAST-MODIFIED:20250520T143719Z
UID:10004470-1783036800-1784332799@semanadalinguaalema.com.br
SUMMARY:DOAÇĀO DE LIVROS
DESCRIPTION:Romances\, biografias\, policiais e muito mais.
URL:https://semanadalinguaalema.com.br/evento/doacao-de-livros/2026-07-03/
LOCATION:Insituto Kreativ\, Rua dos Bandeirantes\, 405 - Cambuí\, Campinas\, São Paulo\, 13024011\, Brasil
CATEGORIES:Literatura
ORGANIZER;CN="Insituto Kreativ":MAILTO:kreativ@kreativ.com.br
GEO:-22.8923332;-47.0515171
X-APPLE-STRUCTURED-LOCATION;VALUE=URI;X-ADDRESS=Insituto Kreativ Rua dos Bandeirantes 405 - Cambuí Campinas São Paulo 13024011 Brasil;X-APPLE-RADIUS=500;X-TITLE=Rua dos Bandeirantes\, 405 - Cambuí:geo:-47.0515171,-22.8923332
END:VEVENT
BEGIN:VEVENT
DTSTART;VALUE=DATE:20260704
DTEND;VALUE=DATE:20260719
DTSTAMP:20260420T000116
CREATED:20250520T143719Z
LAST-MODIFIED:20250520T143719Z
UID:10004471-1783123200-1784419199@semanadalinguaalema.com.br
SUMMARY:DOAÇĀO DE LIVROS
DESCRIPTION:Romances\, biografias\, policiais e muito mais.
URL:https://semanadalinguaalema.com.br/evento/doacao-de-livros/2026-07-04/
LOCATION:Insituto Kreativ\, Rua dos Bandeirantes\, 405 - Cambuí\, Campinas\, São Paulo\, 13024011\, Brasil
CATEGORIES:Literatura
ORGANIZER;CN="Insituto Kreativ":MAILTO:kreativ@kreativ.com.br
GEO:-22.8923332;-47.0515171
X-APPLE-STRUCTURED-LOCATION;VALUE=URI;X-ADDRESS=Insituto Kreativ Rua dos Bandeirantes 405 - Cambuí Campinas São Paulo 13024011 Brasil;X-APPLE-RADIUS=500;X-TITLE=Rua dos Bandeirantes\, 405 - Cambuí:geo:-47.0515171,-22.8923332
END:VEVENT
BEGIN:VEVENT
DTSTART;VALUE=DATE:20260705
DTEND;VALUE=DATE:20260720
DTSTAMP:20260420T000116
CREATED:20250520T143719Z
LAST-MODIFIED:20250520T143719Z
UID:10004472-1783209600-1784505599@semanadalinguaalema.com.br
SUMMARY:DOAÇĀO DE LIVROS
DESCRIPTION:Romances\, biografias\, policiais e muito mais.
URL:https://semanadalinguaalema.com.br/evento/doacao-de-livros/2026-07-05/
LOCATION:Insituto Kreativ\, Rua dos Bandeirantes\, 405 - Cambuí\, Campinas\, São Paulo\, 13024011\, Brasil
CATEGORIES:Literatura
ORGANIZER;CN="Insituto Kreativ":MAILTO:kreativ@kreativ.com.br
GEO:-22.8923332;-47.0515171
X-APPLE-STRUCTURED-LOCATION;VALUE=URI;X-ADDRESS=Insituto Kreativ Rua dos Bandeirantes 405 - Cambuí Campinas São Paulo 13024011 Brasil;X-APPLE-RADIUS=500;X-TITLE=Rua dos Bandeirantes\, 405 - Cambuí:geo:-47.0515171,-22.8923332
END:VEVENT
BEGIN:VEVENT
DTSTART;VALUE=DATE:20260706
DTEND;VALUE=DATE:20260721
DTSTAMP:20260420T000116
CREATED:20250520T143719Z
LAST-MODIFIED:20250520T143719Z
UID:10004473-1783296000-1784591999@semanadalinguaalema.com.br
SUMMARY:DOAÇĀO DE LIVROS
DESCRIPTION:Romances\, biografias\, policiais e muito mais.
URL:https://semanadalinguaalema.com.br/evento/doacao-de-livros/2026-07-06/
LOCATION:Insituto Kreativ\, Rua dos Bandeirantes\, 405 - Cambuí\, Campinas\, São Paulo\, 13024011\, Brasil
CATEGORIES:Literatura
ORGANIZER;CN="Insituto Kreativ":MAILTO:kreativ@kreativ.com.br
GEO:-22.8923332;-47.0515171
X-APPLE-STRUCTURED-LOCATION;VALUE=URI;X-ADDRESS=Insituto Kreativ Rua dos Bandeirantes 405 - Cambuí Campinas São Paulo 13024011 Brasil;X-APPLE-RADIUS=500;X-TITLE=Rua dos Bandeirantes\, 405 - Cambuí:geo:-47.0515171,-22.8923332
END:VEVENT
BEGIN:VEVENT
DTSTART;VALUE=DATE:20260707
DTEND;VALUE=DATE:20260722
DTSTAMP:20260420T000116
CREATED:20250520T143719Z
LAST-MODIFIED:20250520T143719Z
UID:10004474-1783382400-1784678399@semanadalinguaalema.com.br
SUMMARY:DOAÇĀO DE LIVROS
DESCRIPTION:Romances\, biografias\, policiais e muito mais.
URL:https://semanadalinguaalema.com.br/evento/doacao-de-livros/2026-07-07/
LOCATION:Insituto Kreativ\, Rua dos Bandeirantes\, 405 - Cambuí\, Campinas\, São Paulo\, 13024011\, Brasil
CATEGORIES:Literatura
ORGANIZER;CN="Insituto Kreativ":MAILTO:kreativ@kreativ.com.br
GEO:-22.8923332;-47.0515171
X-APPLE-STRUCTURED-LOCATION;VALUE=URI;X-ADDRESS=Insituto Kreativ Rua dos Bandeirantes 405 - Cambuí Campinas São Paulo 13024011 Brasil;X-APPLE-RADIUS=500;X-TITLE=Rua dos Bandeirantes\, 405 - Cambuí:geo:-47.0515171,-22.8923332
END:VEVENT
BEGIN:VEVENT
DTSTART;VALUE=DATE:20260708
DTEND;VALUE=DATE:20260723
DTSTAMP:20260420T000116
CREATED:20250520T143719Z
LAST-MODIFIED:20250520T143719Z
UID:10004475-1783468800-1784764799@semanadalinguaalema.com.br
SUMMARY:DOAÇĀO DE LIVROS
DESCRIPTION:Romances\, biografias\, policiais e muito mais.
URL:https://semanadalinguaalema.com.br/evento/doacao-de-livros/2026-07-08/
LOCATION:Insituto Kreativ\, Rua dos Bandeirantes\, 405 - Cambuí\, Campinas\, São Paulo\, 13024011\, Brasil
CATEGORIES:Literatura
ORGANIZER;CN="Insituto Kreativ":MAILTO:kreativ@kreativ.com.br
GEO:-22.8923332;-47.0515171
X-APPLE-STRUCTURED-LOCATION;VALUE=URI;X-ADDRESS=Insituto Kreativ Rua dos Bandeirantes 405 - Cambuí Campinas São Paulo 13024011 Brasil;X-APPLE-RADIUS=500;X-TITLE=Rua dos Bandeirantes\, 405 - Cambuí:geo:-47.0515171,-22.8923332
END:VEVENT
BEGIN:VEVENT
DTSTART;VALUE=DATE:20260709
DTEND;VALUE=DATE:20260724
DTSTAMP:20260420T000116
CREATED:20250520T143719Z
LAST-MODIFIED:20250520T143719Z
UID:10004476-1783555200-1784851199@semanadalinguaalema.com.br
SUMMARY:DOAÇĀO DE LIVROS
DESCRIPTION:Romances\, biografias\, policiais e muito mais.
URL:https://semanadalinguaalema.com.br/evento/doacao-de-livros/2026-07-09/
LOCATION:Insituto Kreativ\, Rua dos Bandeirantes\, 405 - Cambuí\, Campinas\, São Paulo\, 13024011\, Brasil
CATEGORIES:Literatura
ORGANIZER;CN="Insituto Kreativ":MAILTO:kreativ@kreativ.com.br
GEO:-22.8923332;-47.0515171
X-APPLE-STRUCTURED-LOCATION;VALUE=URI;X-ADDRESS=Insituto Kreativ Rua dos Bandeirantes 405 - Cambuí Campinas São Paulo 13024011 Brasil;X-APPLE-RADIUS=500;X-TITLE=Rua dos Bandeirantes\, 405 - Cambuí:geo:-47.0515171,-22.8923332
END:VEVENT
BEGIN:VEVENT
DTSTART;VALUE=DATE:20260710
DTEND;VALUE=DATE:20260725
DTSTAMP:20260420T000116
CREATED:20250520T143719Z
LAST-MODIFIED:20250520T143719Z
UID:10004477-1783641600-1784937599@semanadalinguaalema.com.br
SUMMARY:DOAÇĀO DE LIVROS
DESCRIPTION:Romances\, biografias\, policiais e muito mais.
URL:https://semanadalinguaalema.com.br/evento/doacao-de-livros/2026-07-10/
LOCATION:Insituto Kreativ\, Rua dos Bandeirantes\, 405 - Cambuí\, Campinas\, São Paulo\, 13024011\, Brasil
CATEGORIES:Literatura
ORGANIZER;CN="Insituto Kreativ":MAILTO:kreativ@kreativ.com.br
GEO:-22.8923332;-47.0515171
X-APPLE-STRUCTURED-LOCATION;VALUE=URI;X-ADDRESS=Insituto Kreativ Rua dos Bandeirantes 405 - Cambuí Campinas São Paulo 13024011 Brasil;X-APPLE-RADIUS=500;X-TITLE=Rua dos Bandeirantes\, 405 - Cambuí:geo:-47.0515171,-22.8923332
END:VEVENT
BEGIN:VEVENT
DTSTART;VALUE=DATE:20260711
DTEND;VALUE=DATE:20260726
DTSTAMP:20260420T000116
CREATED:20250520T143719Z
LAST-MODIFIED:20250520T143719Z
UID:10004478-1783728000-1785023999@semanadalinguaalema.com.br
SUMMARY:DOAÇĀO DE LIVROS
DESCRIPTION:Romances\, biografias\, policiais e muito mais.
URL:https://semanadalinguaalema.com.br/evento/doacao-de-livros/2026-07-11/
LOCATION:Insituto Kreativ\, Rua dos Bandeirantes\, 405 - Cambuí\, Campinas\, São Paulo\, 13024011\, Brasil
CATEGORIES:Literatura
ORGANIZER;CN="Insituto Kreativ":MAILTO:kreativ@kreativ.com.br
GEO:-22.8923332;-47.0515171
X-APPLE-STRUCTURED-LOCATION;VALUE=URI;X-ADDRESS=Insituto Kreativ Rua dos Bandeirantes 405 - Cambuí Campinas São Paulo 13024011 Brasil;X-APPLE-RADIUS=500;X-TITLE=Rua dos Bandeirantes\, 405 - Cambuí:geo:-47.0515171,-22.8923332
END:VEVENT
BEGIN:VEVENT
DTSTART;TZID=America/Sao_Paulo:20260711T100000
DTEND;TZID=America/Sao_Paulo:20260711T114500
DTSTAMP:20260420T000116
CREATED:20250610T114219Z
LAST-MODIFIED:20250610T114219Z
UID:10006050-1783764000-1783770300@semanadalinguaalema.com.br
SUMMARY:Deutscher Jugendclub Cultura Alemã Joinville
DESCRIPTION:Você sabia que a Cultura Alemã de Joinville tem um projeto para incentivar a prática do idioma alemão\, específico para crônicas e jovens entre 12 e 18 anos? Trata-se do Jugendclub (ou Clube Juvenil).
URL:https://semanadalinguaalema.com.br/evento/deutscher-jugendclub-cultura-alema-joinville/2026-07-11/
LOCATION:Casa da Memória\, Rua XV de Novembro\, 1000\, Joinville\, Santa Catarina\, 89201-602\, Brasil
CATEGORIES:Educação
ATTACH;FMTTYPE=image/jpeg:https://semanadalinguaalema.com.br/wp-content/uploads/2025/06/IMG_6719-2.jpeg
ORGANIZER;CN="Sociedade Cultural Alem%C3%A3 de Joinville":MAILTO:dkvj@terra.com.br
GEO:-26.2995529;-48.8517868
X-APPLE-STRUCTURED-LOCATION;VALUE=URI;X-ADDRESS=Casa da Memória Rua XV de Novembro 1000 Joinville Santa Catarina 89201-602 Brasil;X-APPLE-RADIUS=500;X-TITLE=Rua XV de Novembro\, 1000:geo:-48.8517868,-26.2995529
END:VEVENT
END:VCALENDAR